BEGIN:VCALENDAR
VERSION:2.0
PRODID:-//DuranDuranies - ECPv6.15.20//NONSGML v1.0//EN
CALSCALE:GREGORIAN
METHOD:PUBLISH
X-WR-CALNAME:DuranDuranies
X-ORIGINAL-URL:https://duranduranies.com
X-WR-CALDESC:Events for DuranDuranies
REFRESH-INTERVAL;VALUE=DURATION:PT1H
X-Robots-Tag:noindex
X-PUBLISHED-TTL:PT1H
BEGIN:VTIMEZONE
TZID:UTC
BEGIN:STANDARD
TZOFFSETFROM:+0000
TZOFFSETTO:+0000
TZNAME:UTC
DTSTART:20240101T000000
END:STANDARD
END:VTIMEZONE
BEGIN:VEVENT
DTSTART;TZID=UTC:20250705T180000
DTEND;TZID=UTC:20250705T200000
DTSTAMP:20260423T174555
CREATED:20241203T185445Z
LAST-MODIFIED:20241203T185445Z
UID:2281-1751738400-1751745600@duranduranies.com
SUMMARY:Duran Duran at Chelmsford City Racecourse
DESCRIPTION:July 5\, 2025: Duran Duran at Chelmsford City Racecourse\n\n\n\nNestled in the rolling countryside of Essex\, Chelmsford City Racecourse will be the location of Chelmsford City Live\, a multi-day music extravaganza\, the venue can host as many as 30\,000 fans per day.\n\n \n\nChelmsford City Racecourse is known for its state-of-the-art Polytrack surface\, making the racecourse is a favorite among jockeys and trainers for its consistency and precision\, ensuring year-round excitement for racing fans. The venue pairs its sporting excellence with modern luxury\, offering panoramic dining spaces\, opulent hospitality suites\, and impeccable service that elevate every visit. Conveniently located near Chelmsford and just 40 miles from London\, Chelmsford City Racecourse is easily accessible\, making it a magnet for both locals and day-trippers.\n\n\n\nGET TICKETS
URL:https://duranduranies.com/event/duran-duran-at-chelmsford-essex/
LOCATION:Chelmsford Racecourse\, Essex\, United Kingdom
CATEGORIES:Tours & Live Shows
ATTACH;FMTTYPE=image/jpeg:https://duranduranies.com/wp-content/uploads/2024/12/duran_duran_nile_rodgers_chic_chelmsford.webp
END:VEVENT
END:VCALENDAR