BEGIN:VCALENDAR
VERSION:2.0
PRODID:-//DuranDuranies - ECPv6.15.20//NONSGML v1.0//EN
CALSCALE:GREGORIAN
METHOD:PUBLISH
X-ORIGINAL-URL:https://duranduranies.com
X-WR-CALDESC:Events for DuranDuranies
REFRESH-INTERVAL;VALUE=DURATION:PT1H
X-Robots-Tag:noindex
X-PUBLISHED-TTL:PT1H
BEGIN:VTIMEZONE
TZID:UTC
BEGIN:STANDARD
TZOFFSETFROM:+0000
TZOFFSETTO:+0000
TZNAME:UTC
DTSTART:20240101T000000
END:STANDARD
END:VTIMEZONE
BEGIN:VEVENT
DTSTART;TZID=UTC:20250703T160000
DTEND;TZID=UTC:20250703T180000
DTSTAMP:20260423T174752
CREATED:20241203T184530Z
LAST-MODIFIED:20241203T184811Z
UID:2278-1751558400-1751565600@duranduranies.com
SUMMARY:Duran Duran at Powderham Castle Festival\, Exeter UK
DESCRIPTION:July 3\, 2025: Duran Duran at Powderham Castle \nPowderham Castle\, nestled on the banks of the River Exe\, is about to trade its quiet grandeur for a night of pulsating rhythms and sing-along anthems. This 600-year-old fortress\, a marvel of medieval architecture\, will host Powderham Presents\, a brand-new music festival bringing massive star power to the heart of Devon. With its lush gardens\, imposing towers\, and a concert capacity of 25\,000\, it’s hard to imagine a more iconic setting for a most iconic band. It’s the perfect blend of timeless music and historic setting—an event tailor-made (or should we say TAYLOR-made” for the band that defined a generation. \nGET TICKETS
URL:https://duranduranies.com/event/duran-duran-at-powderham-castle-festival-exeter-uk/
LOCATION:Powderham Castle\, Church Road\, Exeter\, United Kingdom
CATEGORIES:Tours & Live Shows
ATTACH;FMTTYPE=image/jpeg:https://duranduranies.com/wp-content/uploads/2024/12/powderham_castle_duran_duran.webp
END:VEVENT
END:VCALENDAR