BEGIN:VCALENDAR
VERSION:2.0
PRODID:-//DuranDuranies - ECPv6.15.20//NONSGML v1.0//EN
CALSCALE:GREGORIAN
METHOD:PUBLISH
X-ORIGINAL-URL:https://duranduranies.com
X-WR-CALDESC:Events for DuranDuranies
REFRESH-INTERVAL;VALUE=DURATION:PT1H
X-Robots-Tag:noindex
X-PUBLISHED-TTL:PT1H
BEGIN:VTIMEZONE
TZID:UTC
BEGIN:STANDARD
TZOFFSETFROM:+0000
TZOFFSETTO:+0000
TZNAME:UTC
DTSTART:20240101T000000
END:STANDARD
END:VTIMEZONE
BEGIN:VEVENT
DTSTART;TZID=UTC:20250603T190000
DTEND;TZID=UTC:20250603T210000
DTSTAMP:20260423T212817
CREATED:20250125T180851Z
LAST-MODIFIED:20250125T180851Z
UID:2550-1748977200-1748984400@duranduranies.com
SUMMARY:Duran Duran at Nokia Arena\, Tampere\, Finland
DESCRIPTION:Duran Duran at Nokia Arena\, Tampere\, Finland on 3 June\, 2025 \nLocated in the heart of Tampere on the Central Deck\, Nokia Arena is a next-generation experience center that redefines live events. With a capacity of up to 15\,000 spectators\, the arena offers a seamless blend of world-class entertainment\, a premium hotel\, versatile event spaces\, and an array of top-tier restaurants—all coming together to deliver an unforgettable experience like no other. \nGet Tickets \nNokia Arena\nKansikatu 3\n33100 Tampere \nArriving at the concert\nIf your ticket says A or C\, enter via door A. If your ticket says B or D\, use door B to enter: this way\, you will already be on the right side of the arena when you step inside. The main entrance is located at the corner of Sorinkatu and Sorinsilta\, behind the tall high-rise buildings. A security check will be conducted either before the ticket inspection or outdoors\, depending on the event. Check your ticket to see if you are in the stalls or the stands and follow the signs in the arena. Stand tickets are inspected at the bottom of the stairs leading to the main stand floor. Stalls tickets are inspected in front of the doors leading to the stalls. Ticket inspection is self-service\, and you can scan either a mobile or a printed ticket. \n 
URL:https://duranduranies.com/event/duran-duran-at-nokia-arena-tampere-finland/
LOCATION:Nokia Arena\, 33100 Tampere\, Finland
CATEGORIES:Tours & Live Shows
ATTACH;FMTTYPE=image/jpeg:https://duranduranies.com/wp-content/uploads/2025/01/Tour-Live-Shows-Duran-Duran-Nokia-Arena-Finland.webp
END:VEVENT
END:VCALENDAR