BEGIN:VCALENDAR
VERSION:2.0
PRODID:-//DuranDuranies - ECPv6.15.20//NONSGML v1.0//EN
CALSCALE:GREGORIAN
METHOD:PUBLISH
X-ORIGINAL-URL:https://duranduranies.com
X-WR-CALDESC:Events for DuranDuranies
REFRESH-INTERVAL;VALUE=DURATION:PT1H
X-Robots-Tag:noindex
X-PUBLISHED-TTL:PT1H
BEGIN:VTIMEZONE
TZID:UTC
BEGIN:STANDARD
TZOFFSETFROM:+0000
TZOFFSETTO:+0000
TZNAME:UTC
DTSTART:20230101T000000
END:STANDARD
END:VTIMEZONE
BEGIN:VEVENT
DTSTART;TZID=UTC:20241023T000000
DTEND;TZID=UTC:20241023T190000
DTSTAMP:20260424T094654
CREATED:20240821T142045Z
LAST-MODIFIED:20240821T142119Z
UID:1555-1729641600-1729710000@duranduranies.com
SUMMARY:Event Center at Turning Stone Resort Casino
DESCRIPTION:Duran Duran at The Event Center at Turning Stone Resort Casino \, Verona\, NY \nOctober 23\, 2024 \n\n5218 Patrick Rd Verona\, NY 13478\n\nThe Event Center at Turning Stone Resort Casino\, located at 5218 Patrick Rd\, Verona\, NY 13478\, is a premier venue for hosting a wide variety of events in Central New York. This versatile space is part of the renowned Turning Stone Resort Casino\, offering a sophisticated setting for concerts\, conferences\, weddings\, and special events. The Event Center features state-of-the-art audiovisual capabilities\, flexible seating arrangements\, and elegant décor\, making it an ideal choice for both large-scale gatherings and intimate occasions. With easy access to the resort’s luxury accommodations\, dining\, and entertainment options\, guests can enjoy a seamless and memorable experience at this top-tier event destination.
URL:https://duranduranies.com/event/ppl-center-allentown-pa-2/
LOCATION:Event Center at Turning Point Casino\, 5218 Patrick Rd\, Verona\, NY
CATEGORIES:Tours & Live Shows
ATTACH;FMTTYPE=image/jpeg:https://duranduranies.com/wp-content/uploads/2024/04/duranduranies_live_concerts_tour_duran_duran.jpeg
END:VEVENT
END:VCALENDAR