BEGIN:VCALENDAR
VERSION:2.0
PRODID:-//DuranDuranies - ECPv6.15.20//NONSGML v1.0//EN
CALSCALE:GREGORIAN
METHOD:PUBLISH
X-ORIGINAL-URL:https://duranduranies.com
X-WR-CALDESC:Events for DuranDuranies
REFRESH-INTERVAL;VALUE=DURATION:PT1H
X-Robots-Tag:noindex
X-PUBLISHED-TTL:PT1H
BEGIN:VTIMEZONE
TZID:UTC
BEGIN:STANDARD
TZOFFSETFROM:+0000
TZOFFSETTO:+0000
TZNAME:UTC
DTSTART:20230101T000000
END:STANDARD
END:VTIMEZONE
BEGIN:VEVENT
DTSTART;TZID=UTC:20240728T200000
DTEND;TZID=UTC:20240728T200000
DTSTAMP:20260424T134117
CREATED:20240419T235255Z
LAST-MODIFIED:20240514T205153Z
UID:839-1722196800-1722196800@duranduranies.com
SUMMARY:Latitude Festival 2024
DESCRIPTION:Duran Duran have always revelled in the shadows\, playing with artistic\, aesthetic\, and emotional extremes. As much as you can move and shout along to the timeless chants of Hungry Like the Wolf\,Ordinary World\, or Rio\, it feels most natural do sounder the cover of night. They’re the ultimate soundtrack to sharing secrets in close whispers on the dance floor before the lights go up. Inducted into the Rock and Roll Hall of Fame®in 2022\, they’ve sold north of 100 million albums around the world in addition to scoring 18 American chart hits and 21 Top 20 UK smashes. Their various awards and accolades have included two GRAMMY®Awards\, two Ivor Novellos\, two BRIT Awards (including“Outstanding Contribution to Music”in 2004)\, and a star on the Hollywood Walk of Fame. They penned the only James Bond theme to reach #1 in the US\, while David Lynch helmed their concert film. You can hear them sampled in songs by everyone from The Notorious B.I.G. to 5 Seconds of Summer and in reverent covers by Muse\, Deftones\, and more. Rio has claimed spots on Q’s “100 Greatest British Albums\,” NME’s “100 Greatest Albums of All Time\,”and Pitchfork’s “Top 100 Albums of the 1980s.” Summing up their enduring impact\,Vanity Fair proclaimed\,“Duran Duran’s always been about constant innovation and the ‘new’.”Given a penchant and flair for fashion\, rock music never looked the same after their emergence either. Their impact as style icons has been well-documented by WWD\, Vogue\, and more. In between selling out shows worldwide\,2021’s FUTURE PAST saw the group earn widespread acclaim from Salon\,Rolling Stone\, and more. Now\, the iconic UK quartet unearth bright melodies from darkness as they thread together new tunes\, covers\, and alternate versions of classics on their 16th full-length offering\, DANSE MACABRE [Tape Modern/BMG].
URL:https://duranduranies.com/event/latitude-festival-2024/
LOCATION:Henham Park Henham Barns Southwold\, United Kingdom\, Henham Park Henham Barns Southwold\, United Kingdom\, United Kingdom
CATEGORIES:Tours & Live Shows
END:VEVENT
END:VCALENDAR