BEGIN:VCALENDAR
VERSION:2.0
PRODID:-//DuranDuranies - ECPv6.15.20//NONSGML v1.0//EN
CALSCALE:GREGORIAN
METHOD:PUBLISH
X-ORIGINAL-URL:https://duranduranies.com
X-WR-CALDESC:Events for DuranDuranies
REFRESH-INTERVAL;VALUE=DURATION:PT1H
X-Robots-Tag:noindex
X-PUBLISHED-TTL:PT1H
BEGIN:VTIMEZONE
TZID:UTC
BEGIN:STANDARD
TZOFFSETFROM:+0000
TZOFFSETTO:+0000
TZNAME:UTC
DTSTART:20230101T000000
END:STANDARD
END:VTIMEZONE
BEGIN:VEVENT
DTSTART;TZID=UTC:20240723T193000
DTEND;TZID=UTC:20240723T193000
DTSTAMP:20260424T153236
CREATED:20240419T234650Z
LAST-MODIFIED:20240514T205215Z
UID:833-1721763000-1721763000@duranduranies.com
SUMMARY:Lucca Summer Festival
DESCRIPTION:Duran Duran headlining July 23 at the Lucca Summer Festival\n\n\nTUESDAY 23 JULY\n\nVENUE:\nLUCCA SUMMER FESTIVAL 2024 \n\nH.:\n21\,00 \n\nTICKETS:\n\nTribuna Numerata €. 100\,00 + prev.\nFloor Reserved Seats gold €. 100\,00 + prev.\nFloor Reserved Seats €. 87\,00 + prev.\nFloor Reserved Seats Obstructed View 1 €. 87\,00 + prev.\nFloor Reserved Seats II €. 78\,00 + prev.\nFloor Reserved Seats Obstructed View 2 €. 78\,00 + prev.\nGeneral Admission €. 60\,00 + prev.\n\n\n\n\n\n\n  \n\n\n\n\n\n\n\nFROM FLORENCE\nA11(motorway) called Firenze-Mare and exit at Lucca Est or Lucca Ovest. \nFROM GENOA\nA12 (motorway) to Viareggio then the raccordo A11-A12 (motorway link) and exit at Lucca Est or Lucca Ovest. \nFROM MILAN\nA1(motorway) towards Bologna then at La Spezia take the A15 (motorway)to Viareggio then take the raccordo A11-12 (motorway link) and exit at Lucca Est or Lucca Ovest \nFROM PISA\nSS12 (road) and head for Lucca city centre. \nFROM ROME\nA1(motorway) towards Florence then the A11 and exit at Lucca Est or Ovest. \nFROM BOLOGNA\nA1 (motorway) towards Florence then the A11 and exit at Lucca Est or Lucca Ovest. \nFROM VIAREGGIO\nA11-12 raccordo (motorway) and exit at Lucca Est or Lucca Ovest. \n\n\n\nPiazza Napoleone \n\n\nPiazza Napoleone 27\nLucca\, Italy
URL:https://duranduranies.com/event/lucca-summer-festival-2/
LOCATION:Piazza Napoleone Piazza Napoleone 27 Lucca\, Italy\, Piazza Napoleone Piazza Napoleone 27 Lucca\, Italy\, Italy
CATEGORIES:Tours & Live Shows
END:VEVENT
END:VCALENDAR