BEGIN:VCALENDAR
VERSION:2.0
PRODID:-//DuranDuranies - ECPv6.15.20//NONSGML v1.0//EN
CALSCALE:GREGORIAN
METHOD:PUBLISH
X-WR-CALNAME:DuranDuranies
X-ORIGINAL-URL:https://duranduranies.com
X-WR-CALDESC:Events for DuranDuranies
REFRESH-INTERVAL;VALUE=DURATION:PT1H
X-Robots-Tag:noindex
X-PUBLISHED-TTL:PT1H
BEGIN:VTIMEZONE
TZID:UTC
BEGIN:STANDARD
TZOFFSETFROM:+0000
TZOFFSETTO:+0000
TZNAME:UTC
DTSTART:20230101T000000
END:STANDARD
END:VTIMEZONE
BEGIN:VEVENT
DTSTART;TZID=UTC:20240517T193000
DTEND;TZID=UTC:20240517T213000
DTSTAMP:20260424T170110
CREATED:20240419T232242Z
LAST-MODIFIED:20240514T205121Z
UID:817-1715974200-1715981400@duranduranies.com
SUMMARY:Steelhouse Omaha
DESCRIPTION:Duran Duran\nMay 17\, 2024 8:00 pm\n  \n– Doors at 6:30 PM | Show at 8:00 PM\n– Preordered parking available at the National Indemnity Garage @ 322 N 12th Street – preorder through ParkWhiz in advance!\n– Clear bags up to 12x6x12” or small clutches 6.5×4.5″\n– Cashless payments only\n\n1100 Dodge Street\nOmaha\, NE 68104
URL:https://duranduranies.com/event/steelhouse-omaha/
LOCATION:Steelhouse Omaha\\, 1100 Dodge Street\, Omaha\, 68104\, United States
CATEGORIES:Tours & Live Shows
END:VEVENT
END:VCALENDAR