BEGIN:VCALENDAR
VERSION:2.0
PRODID:-//DuranDuranies - ECPv6.15.20//NONSGML v1.0//EN
CALSCALE:GREGORIAN
METHOD:PUBLISH
X-ORIGINAL-URL:https://duranduranies.com
X-WR-CALDESC:Events for DuranDuranies
REFRESH-INTERVAL;VALUE=DURATION:PT1H
X-Robots-Tag:noindex
X-PUBLISHED-TTL:PT1H
BEGIN:VTIMEZONE
TZID:UTC
BEGIN:STANDARD
TZOFFSETFROM:+0000
TZOFFSETTO:+0000
TZNAME:UTC
DTSTART:20230101T000000
END:STANDARD
END:VTIMEZONE
BEGIN:VEVENT
DTSTART;TZID=UTC:20240718T200000
DTEND;TZID=UTC:20240718T200000
DTSTAMP:20260424T122037
CREATED:20240419T233315Z
LAST-MODIFIED:20240514T220443Z
UID:824-1721332800-1721332800@duranduranies.com
SUMMARY:Release Athens 2024 Festival
DESCRIPTION:Duran Duran\nRelease Athens 2024\nThe iconic British rock band\, Duran Duran\, has been unveiled as the headliners for the 2024 edition of the Release Athens festival.\n\n\n\n\nPlateia Nerou \n\n\nLeof. Posidonos 2616\nKallithéa\, Greece
URL:https://duranduranies.com/event/release-athens-2024-festival/
LOCATION:Plateia Nerou (Olympic Pole Faliro)\, Leof. Posidonos 2616 Kallithéa\, Greece
CATEGORIES:Tours & Live Shows
END:VEVENT
BEGIN:VEVENT
DTSTART;TZID=UTC:20240720T200000
DTEND;TZID=UTC:20240720T200000
DTSTAMP:20260424T122037
CREATED:20240419T233845Z
LAST-MODIFIED:20240514T220434Z
UID:827-1721505600-1721505600@duranduranies.com
SUMMARY:Montreux Jazz Festival 2024
DESCRIPTION:Duran Duran\nMontreux Jazz Festival 2024\n\n\n\n\n\nMontreux\, Switzerland\n\n\nThe Montreux Jazz Festival takes place for two weeks every summer in Switzerland\, on the shores of Lake Geneva. Created in 1967 by Claude Nobs and directed by Mathieu Jaton since 2013\, the Montreux Jazz Festival has become over the years an essential event\, generating fantastic stories and legendary performances. An eye-catching stage will be built on the lake\, below the Place du Marché\, offering the public a breathtaking view.
URL:https://duranduranies.com/event/montreux-jazz-festival-2024/
LOCATION:Lake Geneva\, Switzerland
CATEGORIES:Tours & Live Shows
END:VEVENT
BEGIN:VEVENT
DTSTART;TZID=UTC:20240721T200000
DTEND;TZID=UTC:20240721T200000
DTSTAMP:20260424T122037
CREATED:20240419T234351Z
LAST-MODIFIED:20240514T220424Z
UID:830-1721592000-1721592000@duranduranies.com
SUMMARY:Lucca Summer Festival
DESCRIPTION:Duran Duran headlining July 21 at the Lucca Summer Festival\n\n\n\nFROM FLORENCE\nA11(motorway) called Firenze-Mare and exit at Lucca Est or Lucca Ovest. \nFROM GENOA\nA12 (motorway) to Viareggio then the raccordo A11-A12 (motorway link) and exit at Lucca Est or Lucca Ovest. \nFROM MILAN\nA1(motorway) towards Bologna then at La Spezia take the A15 (motorway)to Viareggio then take the raccordo A11-12 (motorway link) and exit at Lucca Est or Lucca Ovest \nFROM PISA\nSS12 (road) and head for Lucca city centre. \nFROM ROME\nA1(motorway) towards Florence then the A11 and exit at Lucca Est or Ovest. \nFROM BOLOGNA\nA1 (motorway) towards Florence then the A11 and exit at Lucca Est or Lucca Ovest. \nFROM VIAREGGIO\nA11-12 raccordo (motorway) and exit at Lucca Est or Lucca Ovest. \n\n\nPiazza Napoleone \n\n\nPiazza Napoleone 27\nLucca\, Italy
URL:https://duranduranies.com/event/lucca-summer-festival/
LOCATION:Italy\, Italy
CATEGORIES:Tours & Live Shows
END:VEVENT
BEGIN:VEVENT
DTSTART;TZID=UTC:20240723T193000
DTEND;TZID=UTC:20240723T193000
DTSTAMP:20260424T122037
CREATED:20240419T234650Z
LAST-MODIFIED:20240514T205215Z
UID:833-1721763000-1721763000@duranduranies.com
SUMMARY:Lucca Summer Festival
DESCRIPTION:Duran Duran headlining July 23 at the Lucca Summer Festival\n\n\nTUESDAY 23 JULY\n\nVENUE:\nLUCCA SUMMER FESTIVAL 2024 \n\nH.:\n21\,00 \n\nTICKETS:\n\nTribuna Numerata €. 100\,00 + prev.\nFloor Reserved Seats gold €. 100\,00 + prev.\nFloor Reserved Seats €. 87\,00 + prev.\nFloor Reserved Seats Obstructed View 1 €. 87\,00 + prev.\nFloor Reserved Seats II €. 78\,00 + prev.\nFloor Reserved Seats Obstructed View 2 €. 78\,00 + prev.\nGeneral Admission €. 60\,00 + prev.\n\n\n\n\n\n\n  \n\n\n\n\n\n\n\nFROM FLORENCE\nA11(motorway) called Firenze-Mare and exit at Lucca Est or Lucca Ovest. \nFROM GENOA\nA12 (motorway) to Viareggio then the raccordo A11-A12 (motorway link) and exit at Lucca Est or Lucca Ovest. \nFROM MILAN\nA1(motorway) towards Bologna then at La Spezia take the A15 (motorway)to Viareggio then take the raccordo A11-12 (motorway link) and exit at Lucca Est or Lucca Ovest \nFROM PISA\nSS12 (road) and head for Lucca city centre. \nFROM ROME\nA1(motorway) towards Florence then the A11 and exit at Lucca Est or Ovest. \nFROM BOLOGNA\nA1 (motorway) towards Florence then the A11 and exit at Lucca Est or Lucca Ovest. \nFROM VIAREGGIO\nA11-12 raccordo (motorway) and exit at Lucca Est or Lucca Ovest. \n\n\n\nPiazza Napoleone \n\n\nPiazza Napoleone 27\nLucca\, Italy
URL:https://duranduranies.com/event/lucca-summer-festival-2/
LOCATION:Piazza Napoleone Piazza Napoleone 27 Lucca\, Italy\, Piazza Napoleone Piazza Napoleone 27 Lucca\, Italy\, Italy
CATEGORIES:Tours & Live Shows
END:VEVENT
BEGIN:VEVENT
DTSTART;TZID=UTC:20240725T200000
DTEND;TZID=UTC:20240725T200000
DTSTAMP:20260424T122037
CREATED:20240419T235001Z
LAST-MODIFIED:20240514T205204Z
UID:836-1721937600-1721937600@duranduranies.com
SUMMARY:Monte Carlo Summer Fest
DESCRIPTION:Duran Duran\, Monte Carlo Summer Fest\n\n\n\n\nSalle des Étoiles \n\n\n26 Av. Princesse Grace\nMONACO\, Monaco\n\n\n\nInformation\n\n\n\n\nDate: 25 july 2024\nVenue: Salle des Étoiles\nConcert type: Dinner-show\nOpening doors: 08:00 pm\nBeginning of the concert: From 10.30 pm\nDress code: Proper attire required\nMinimum age: 7 years\nMail: ticketoffice@sbm.mc\nOfficial website: https://duranduran.com\nValet parking\n\n\n\n\n\nDuran Duran\, the legendary pop-rock group\, has made music history since their debut in the 1980s. After an 18-year hiatus\, the five founding members reunited in 2002 to record a new album and go on tour\, sparking unprecedented global excitement.
URL:https://duranduranies.com/event/monte-carlo-summer-fest/
LOCATION:monaco\, Monaco
CATEGORIES:Tours & Live Shows
END:VEVENT
BEGIN:VEVENT
DTSTART;TZID=UTC:20240728T200000
DTEND;TZID=UTC:20240728T200000
DTSTAMP:20260424T122037
CREATED:20240419T235255Z
LAST-MODIFIED:20240514T205153Z
UID:839-1722196800-1722196800@duranduranies.com
SUMMARY:Latitude Festival 2024
DESCRIPTION:Duran Duran have always revelled in the shadows\, playing with artistic\, aesthetic\, and emotional extremes. As much as you can move and shout along to the timeless chants of Hungry Like the Wolf\,Ordinary World\, or Rio\, it feels most natural do sounder the cover of night. They’re the ultimate soundtrack to sharing secrets in close whispers on the dance floor before the lights go up. Inducted into the Rock and Roll Hall of Fame®in 2022\, they’ve sold north of 100 million albums around the world in addition to scoring 18 American chart hits and 21 Top 20 UK smashes. Their various awards and accolades have included two GRAMMY®Awards\, two Ivor Novellos\, two BRIT Awards (including“Outstanding Contribution to Music”in 2004)\, and a star on the Hollywood Walk of Fame. They penned the only James Bond theme to reach #1 in the US\, while David Lynch helmed their concert film. You can hear them sampled in songs by everyone from The Notorious B.I.G. to 5 Seconds of Summer and in reverent covers by Muse\, Deftones\, and more. Rio has claimed spots on Q’s “100 Greatest British Albums\,” NME’s “100 Greatest Albums of All Time\,”and Pitchfork’s “Top 100 Albums of the 1980s.” Summing up their enduring impact\,Vanity Fair proclaimed\,“Duran Duran’s always been about constant innovation and the ‘new’.”Given a penchant and flair for fashion\, rock music never looked the same after their emergence either. Their impact as style icons has been well-documented by WWD\, Vogue\, and more. In between selling out shows worldwide\,2021’s FUTURE PAST saw the group earn widespread acclaim from Salon\,Rolling Stone\, and more. Now\, the iconic UK quartet unearth bright melodies from darkness as they thread together new tunes\, covers\, and alternate versions of classics on their 16th full-length offering\, DANSE MACABRE [Tape Modern/BMG].
URL:https://duranduranies.com/event/latitude-festival-2024/
LOCATION:Henham Park Henham Barns Southwold\, United Kingdom\, Henham Park Henham Barns Southwold\, United Kingdom\, United Kingdom
CATEGORIES:Tours & Live Shows
END:VEVENT
END:VCALENDAR