BEGIN:VCALENDAR
VERSION:2.0
PRODID:-//DuranDuranies - ECPv6.15.20//NONSGML v1.0//EN
CALSCALE:GREGORIAN
METHOD:PUBLISH
X-WR-CALNAME:DuranDuranies
X-ORIGINAL-URL:https://duranduranies.com
X-WR-CALDESC:Events for DuranDuranies
REFRESH-INTERVAL;VALUE=DURATION:PT1H
X-Robots-Tag:noindex
X-PUBLISHED-TTL:PT1H
BEGIN:VTIMEZONE
TZID:UTC
BEGIN:STANDARD
TZOFFSETFROM:+0000
TZOFFSETTO:+0000
TZNAME:UTC
DTSTART:20250101T000000
END:STANDARD
END:VTIMEZONE
BEGIN:VEVENT
DTSTART;TZID=UTC:20260104T000000
DTEND;TZID=UTC:20260104T000000
DTSTAMP:20260421T071544
CREATED:20251111T014007Z
LAST-MODIFIED:20251111T014007Z
UID:3295-1767484800-1767484800@duranduranies.com
SUMMARY:Duran Duran at Viejas Arena in San Diego\, CA
DESCRIPTION:Catch Duran Duran live at Viejas Arena in San Diego on Jan 4\, 2026—an 80s-iconic show at the 12\,400-seat venue you won’t want to miss! \nVenue Overview\nLocated on the campus of San Diego State University at 5500 Canyon Crest Drive\, the Viejas Arena opened in 1997 and serves both the Aztecs athletic programs and major live music events. Wikipedia+2Associated Students+2For concerts\, the capacity reaches up to about 12\,800. Wikipedia+1As a venue\, it strikes a balance: big enough for a major show\, but small enough that most seats still feel connected to the stage. \nThings to Know Before You Go\nHere’s your fan-friendly checklist to make sure your night at Viejas Arena with Duran Duran on January 4\, 2026 starts smooth: \n✅ Clearance & Bag Policy\n\n\nViejas is a clear-bag venue: only clear plastic or vinyl bags (max 12″ × 6″ × 12″) or one-gallon clear freezer bags allowed. Small purses up to 4.5″ × 6.5″ are permitted. Associated Students \n\n\nBackpacks? Leave ’em in the car. \n\n\nExpect security screening at entry—no shortcuts. \n\n\n🎟 Entry & Timing\n\n\nConcerts usually open 60–90 minutes prior to showtime. Heartlight San Diego+1 \n\n\nArrive early. Parking and crowds can become congested\, especially on a big-name act night. \n\n\nSitting upstairs? Enjoy better sight-lines. Floor sections? Get in early to stake your ground. \n\n\n🅿 Parking & Access\n\n\nParking lots P12 and P7 are commonly used for event parking. Associated Students+1 \n\n\nPublic transit: You can reach Viejas via the SDSU trolley/bus stop—ideal if you want to skip parking hassle. Reddit+1 \n\n\n🛍 Venue Comfort & Amenities\n\n\nThe sound and visuals are top-tier; many concert-goers praise the acoustics. Wanderlog \n\n\nDownsides: Some seats have steep climbs; food & drink can get pricey. Bring water if allowed or plan accordingly. \n\n\nNote that the arena is cashless—cards\, phone payments only. Associated Students \n\n\n🎤 Seating & View\n\n\nSection ratings emphasize that lower bowl seating (especially nearer to the stage) will deliver the best experience. See vantage points on “RateYourSeats”. Rate Your Seats \n\n\nStanding on floor? If your ticket is general admission\, arrive early for a decent spot; if seats\, aim for areas with airtime in front. \n\n\nSmart Fan Tips for the Night\n\n\nDress smart: This is San Diego in January—chilly enough to bring a light jacket\, but you’ll be warm once the lights drop. \n\n\nMerch: If you want band tees or limited editions\, consider arriving early (often before doors) to avoid long queues. \n\n\nPhone battery: Concert nights drain batteries fast—carry a battery pack if you’ll be documenting the show. \n\n\nEar protection: Real-deal advice from local concert-goers—bring earplugs for comfort\, especially if you’re near the floor. Reddit \n\n\nSeats vs. Floor: If you prefer to sing\, dance\, and move freely\, go floor. If you want comfort and view\, pick lower-bowl seats. \n\n\nPost-show exit: After a big show\, parking lot traffic can back up. Consider rideshare or walking to nearby parking if possible. \n\n\nVenue Vibes & Expectations\nExpect a night full of energy. Viejas Arena’s size means you’ll get both the intensity of a large show and the connection of a more intimate venue. For Duran Duran fans\, this means your front-row heart-moment (“The Reflex”\, “Ordinary World”) will land hard—and even up in the nosebleeds\, the sound and visuals hold up.
URL:https://duranduranies.com/event/duran-duran-at-the-bleaulive-theater-at-the-fontainebleau-las-vegas-2-2/
LOCATION:Viejas\, 5500 Canyon Crest Dr San Diego\, CA 92182\, CA\, United States
CATEGORIES:Tours & Live Shows
ATTACH;FMTTYPE=image/jpeg:https://duranduranies.com/wp-content/uploads/2025/11/duran-duran-san-diego-california.avif
ORGANIZER;CN="DuranDuranies.com":MAILTO:info@duranduranies.com
END:VEVENT
END:VCALENDAR