BEGIN:VCALENDAR
VERSION:2.0
PRODID:-//DuranDuranies - ECPv6.15.20//NONSGML v1.0//EN
CALSCALE:GREGORIAN
METHOD:PUBLISH
X-WR-CALNAME:DuranDuranies
X-ORIGINAL-URL:https://duranduranies.com
X-WR-CALDESC:Events for DuranDuranies
REFRESH-INTERVAL;VALUE=DURATION:PT1H
X-Robots-Tag:noindex
X-PUBLISHED-TTL:PT1H
BEGIN:VTIMEZONE
TZID:UTC
BEGIN:STANDARD
TZOFFSETFROM:+0000
TZOFFSETTO:+0000
TZNAME:UTC
DTSTART:20250101T000000
END:STANDARD
END:VTIMEZONE
BEGIN:VEVENT
DTSTART;TZID=UTC:20260105T000000
DTEND;TZID=UTC:20260105T000000
DTSTAMP:20260421T065244
CREATED:20251111T014844Z
LAST-MODIFIED:20251111T014844Z
UID:3300-1767571200-1767571200@duranduranies.com
SUMMARY:Duran Duran at Mortgage Matchup Center\, Phoenix\, AZ
DESCRIPTION:At a Glance\n\n\nAddress: 201 E Jefferson St.\, Phoenix\, AZ 85004 \n\n\nCapacity: Up to ~12\,565 for end-stage concerts. \n\n\nTransit: Located in the downtown Legends Entertainment District and accessible via Phoenix light rail and bus lines. \n\n\nRecent Name: Formerly known as PHX Arena and Footprint Center; renamed in 2025 to Mortgage Matchup Center. \n\n\nWhy It’s a Great Place to See Duran Duran\nThis isn’t your neighbourhood club—it’s a world-class arena built for major acts. From the palm-tree lined exterior to the tech-rich audio and visuals inside\, you’ll get the polish and presence that fits a band like Duran Duran. With a mid-sized concert capacity\, you’re likely close enough to feel the bass and see the stage without losing the big-venue vibe. \nTips & Things to Know Before the Show 🎤\nHere are some practical pointers to make your night smooth: \n🎟 Arrive EarlyDoor times can vary\, but aim to get there 60–90 minutes before showtime to beat parking rush\, security\, and line-ups. \n🅿 Parking & Transport \n\n\nDowntown parking can fill fast — lots near Jefferson and 1st Street are convenient. \n\n\nConsider public transit: Phoenix’s light rail and buses service the area\, helping skip parking headaches.DTPHX.org+1 \n\n\n🔍 Bag & Entry PolicyVenue rules can include clear-bag requirements\, security screenings\, and no re-entry — so check the official site closer to the date. \n📍 Seating and Sightlines \n\n\nEnd-stage setup offers ~12\,500 capacity — seats farther back may still offer great sound and visuals.Venue Coalition \n\n\nFloor tickets will put you right in the mix; if you want better sight-lines with some comfort\, aim for lower bowl seats. \n\n\n📱 Phone & Power UpConcerts drain batteries — bring a portable charger if you plan to capture moments or navigate post-show transit. \n🎧 Ear ComfortFor fans close to the stage\, earplugs can help keep the volume intense yet comfortable. \n🍺 Food & DrinkVenue is dining-friendly\, but concession prices can add up. Budget accordingly. \n🚗 ExitingPost-show traffic downtown can be heavy. If you parked nearby\, consider giving yourself extra time or use rideshare to sidestep parking lot delays. \n\nNearby Highlights\n\n\nDining: Just steps away you’ll find bars and eateries like Willie’s Taco Joint and other downtown Phoenix spots. DTPHX.org \n\n\nHotels & Stay: Staying downtown near the arena (or close by on Jefferson/1st) means you’ll be a short walk or quick ride back after the show. \n\n\nOther Shows: As a major entertainment hub\, Mortgage Matchup Center hosts big concerts and sports events — so arriving early gets you in the mood. azcentral.com \n\n\n\nFan-Focused Final Tips\n\n\nWear something you can dance in. Duran Duran’s show will likely make the floor move. \n\n\nPick out a memorable moment for yourself — on stage or off — because this is going to be one of those nights. \n\n\nDon’t forget: once the bass drops and the lights go up\, you’re part of the experience too. \n\n\n\nIf you’re going to see Duran Duran at Mortgage Matchup Center on Jan 4\, 2026\, you’re in for a top-tier venue\, a stellar performance\, and a full-on night. Get there early\, stay sharp\, and let the music take over.
URL:https://duranduranies.com/event/duran-duran-at-the-bleaulive-theater-at-the-fontainebleau-las-vegas-2-2-2/
LOCATION:Mortgage Matchup Center\, 201 E Jefferson St Phoenix\, AZ 85004\, AZ\, United States
CATEGORIES:Tours & Live Shows
ATTACH;FMTTYPE=image/jpeg:https://duranduranies.com/wp-content/uploads/2024/11/duran-duran-live-concert-show-2025.webp
ORGANIZER;CN="DuranDuranies.com":MAILTO:info@duranduranies.com
END:VEVENT
END:VCALENDAR