BEGIN:VCALENDAR
VERSION:2.0
PRODID:-//DuranDuranies - ECPv6.15.20//NONSGML v1.0//EN
CALSCALE:GREGORIAN
METHOD:PUBLISH
X-ORIGINAL-URL:https://duranduranies.com
X-WR-CALDESC:Events for DuranDuranies
REFRESH-INTERVAL;VALUE=DURATION:PT1H
X-Robots-Tag:noindex
X-PUBLISHED-TTL:PT1H
BEGIN:VTIMEZONE
TZID:UTC
BEGIN:STANDARD
TZOFFSETFROM:+0000
TZOFFSETTO:+0000
TZNAME:UTC
DTSTART:20230101T000000
END:STANDARD
END:VTIMEZONE
BEGIN:VEVENT
DTSTART;TZID=UTC:20241230T200000
DTEND;TZID=UTC:20241230T230000
DTSTAMP:20260422T033417
CREATED:20241112T045312Z
LAST-MODIFIED:20241118T195747Z
UID:1772-1735588800-1735599600@duranduranies.com
SUMMARY:Duran Duran at Fontainebleau Las Vegas
DESCRIPTION:What better way to say goodbye to 2024 than with one of the most legendary bands of all time? Duran Duran is set to bring their signature groove to the Fontainebleau Las Vegas for a back-to-back performance at the BleauLive Theater on Sunday\, Dec. 29 and Monday\, Dec. 30. If you’re still figuring out your New Year’s plans\, this is the place to be. It promises to be as big as Duran Duran’s Halloween show at Madison Square Garden. \nThe Rock and Roll Hall of Famers will take over the new BleauLive Theater for back-to-back shows\, giving fans a double dose of their chart-topping hits\, smooth grooves. Tickets for the newly added December 29 show just went live on FontainebleauLasVegas.com\, so you can lock in your spot and start counting down the days! \nFontainebleau Las Vegas \n2777 S Las Vegas Blvd \n\nLas Vegas\, NV 89109
URL:https://duranduranies.com/event/1772/
LOCATION:BleauLive Theate\, 2777 S Las Vegas Blvd\, Las Vegas\, NV\, United States
CATEGORIES:Tours & Live Shows
ATTACH;FMTTYPE=image/jpeg:https://duranduranies.com/wp-content/uploads/2024/05/IMG_0686.jpeg
END:VEVENT
END:VCALENDAR