BEGIN:VCALENDAR
VERSION:2.0
PRODID:-//DuranDuranies - ECPv6.15.20//NONSGML v1.0//EN
CALSCALE:GREGORIAN
METHOD:PUBLISH
X-ORIGINAL-URL:https://duranduranies.com
X-WR-CALDESC:Events for DuranDuranies
REFRESH-INTERVAL;VALUE=DURATION:PT1H
X-Robots-Tag:noindex
X-PUBLISHED-TTL:PT1H
BEGIN:VTIMEZONE
TZID:UTC
BEGIN:STANDARD
TZOFFSETFROM:+0000
TZOFFSETTO:+0000
TZNAME:UTC
DTSTART:20240101T000000
END:STANDARD
END:VTIMEZONE
BEGIN:VEVENT
DTSTART;TZID=UTC:20250620T190000
DTEND;TZID=UTC:20250620T210000
DTSTAMP:20260421T201212
CREATED:20250125T202510Z
LAST-MODIFIED:20250125T202510Z
UID:2582-1750446000-1750453200@duranduranies.com
SUMMARY:Duran Duran at the I-Days Festival\, Ippodromo SNAI La Maura\, Milan\, Italy
DESCRIPTION:Duran Duran at the I Days Festival\, Ippodromo SNAI La Maura\, Milan\, Italy 20 June\, 2025\n\n\n\n\nOn June 20\, 2025\, celebrating JOhn Taylor’s birhtday\, Duran Duran will take the stage at the I-Days Festival at Ippodromo SNAI La Maura in Milan\, delivering an electrifying performance at one of Italy’s biggest music festivals. I-Days\, formerly known as Independent Days Festival\, has become a staple of the European music scene\, attracting massive crowds and top international artists. The festival drew 80\,000 fans at Parco di Monza in 2017 and continues to grow\, now taking place at the Milano Innovation District (MIND)\, a dynamic hub for music and culture. Ippodromo SNAI La Maura\, a renowned horse racing venue turned premier event space\, provides the perfect setting for a high-energy show with its expansive open-air layout and vibrant atmosphere. Milan\, a city celebrated for its rich cultural heritage\, fashion\, and innovation\, will set the stage for an unforgettable night as Duran Duran performs their biggest hits and new tracks. Don’t miss this legendary band at one of Europe’s most exciting music festivals! \nGET TICKETS
URL:https://duranduranies.com/event/duran-duran-at-the-i-days-festival-ippodromo-snai-la-maura-milan-italy/
LOCATION:Ippodromo SNAI\, Via Lampugnano Milano\, Italy\, Italy
CATEGORIES:Tours & Live Shows
ATTACH;FMTTYPE=image/jpeg:https://duranduranies.com/wp-content/uploads/2025/01/Tour-Live-Shows-Duran-Duran-I-Days-Music-Festival.webp
END:VEVENT
END:VCALENDAR