BEGIN:VCALENDAR
VERSION:2.0
PRODID:-//DuranDuranies - ECPv6.15.20//NONSGML v1.0//EN
CALSCALE:GREGORIAN
METHOD:PUBLISH
X-ORIGINAL-URL:https://duranduranies.com
X-WR-CALDESC:Events for DuranDuranies
REFRESH-INTERVAL;VALUE=DURATION:PT1H
X-Robots-Tag:noindex
X-PUBLISHED-TTL:PT1H
BEGIN:VTIMEZONE
TZID:UTC
BEGIN:STANDARD
TZOFFSETFROM:+0000
TZOFFSETTO:+0000
TZNAME:UTC
DTSTART:20240101T000000
END:STANDARD
END:VTIMEZONE
BEGIN:VEVENT
DTSTART;TZID=UTC:20250615T190000
DTEND;TZID=UTC:20250615T210000
DTSTAMP:20260421T170349
CREATED:20250125T194418Z
LAST-MODIFIED:20250125T195151Z
UID:2571-1750014000-1750021200@duranduranies.com
SUMMARY:Duran Duran at Circo Massimo\, Rome\, Italy
DESCRIPTION:Duran Duran at Circo Massimo\, Rome\, Italy 15 June\, 2025\n\n\n\n\nOn June 15\, 2025\, the legendary Duran Duran will take the stage at the iconic Circo Massimo in Rome\, delivering an unforgettable night of music in one of the world’s most historic venues. Known for their groundbreaking hits like Rio\, Hungry Like the Wolf\, and Ordinary World\, the British pop icons will captivate fans with a thrilling performance that blends timeless classics with fresh tracks from their latest album. Against the breathtaking backdrop of ancient Rome\, this highly anticipated concert promises to be a once-in-a-lifetime experience\, merging the band’s cutting-edge sound with the timeless grandeur of Circo Massimo. \nCirco Massimo\, or Circus Maximus\, is a vast open-air venue steeped in history\, dating back to ancient Rome when it was used for chariot races and grand public events. As one of the largest stadiums of the Roman Empire\, it could hold up to 250\,000 spectators\, making it a fitting location for epic gatherings. Today\, it stands as a symbol of Rome’s rich cultural heritage and serves as a stunning venue for major concerts and festivals. The combination of Duran Duran’s dynamic performance and the awe-inspiring setting of Circo Massimo will create an extraordinary night of music\, history\, and celebration. Don’t miss this unique opportunity to see the iconic band in one of the world’s most spectacular locations! \n\nGET TICKETS
URL:https://duranduranies.com/event/duran-duran-at-circo-massimo-rome-italy/
LOCATION:Circo Massimo\, Viale Aventino Via del Circo Massimo\, Rome\, Italy
CATEGORIES:Tours & Live Shows
ATTACH;FMTTYPE=image/jpeg:https://duranduranies.com/wp-content/uploads/2025/01/Tour-Live-Shows-Duran-Duran-Circo-Massimo-Rome-Italy.webp
END:VEVENT
END:VCALENDAR