BEGIN:VCALENDAR
VERSION:2.0
PRODID:-//DuranDuranies - ECPv6.15.20//NONSGML v1.0//EN
CALSCALE:GREGORIAN
METHOD:PUBLISH
X-WR-CALNAME:DuranDuranies
X-ORIGINAL-URL:https://duranduranies.com
X-WR-CALDESC:Events for DuranDuranies
REFRESH-INTERVAL;VALUE=DURATION:PT1H
X-Robots-Tag:noindex
X-PUBLISHED-TTL:PT1H
BEGIN:VTIMEZONE
TZID:UTC
BEGIN:STANDARD
TZOFFSETFROM:+0000
TZOFFSETTO:+0000
TZNAME:UTC
DTSTART:20250101T000000
END:STANDARD
END:VTIMEZONE
BEGIN:VEVENT
DTSTART;VALUE=DATE:20261121
DTEND;VALUE=DATE:20261122
DTSTAMP:20260423T160205
CREATED:20241115T213954Z
LAST-MODIFIED:20241115T213954Z
UID:1922-1795219200-1795305599@duranduranies.com
SUMMARY:Durangiving 2026
DESCRIPTION:Held every year on November 21st—the anniversary of the release of Seven and the Ragged Tiger—Durangiving encourages fans to support charitable organizations\, either through donations or volunteer hours\, and help make the world a better place. \nLearn more here
URL:https://duranduranies.com/event/durangiving-2026/
CATEGORIES:Event
ATTACH;FMTTYPE=image/png:https://duranduranies.com/wp-content/uploads/2024/11/duranie_thanksgiving_dinner_setting_centerpiece.png
END:VEVENT
END:VCALENDAR