BEGIN:VCALENDAR
VERSION:2.0
PRODID:-//DuranDuranies - ECPv6.15.20//NONSGML v1.0//EN
CALSCALE:GREGORIAN
METHOD:PUBLISH
X-ORIGINAL-URL:https://duranduranies.com
X-WR-CALDESC:Events for DuranDuranies
REFRESH-INTERVAL;VALUE=DURATION:PT1H
X-Robots-Tag:noindex
X-PUBLISHED-TTL:PT1H
BEGIN:VTIMEZONE
TZID:UTC
BEGIN:STANDARD
TZOFFSETFROM:+0000
TZOFFSETTO:+0000
TZNAME:UTC
DTSTART:20240101T000000
END:STANDARD
END:VTIMEZONE
BEGIN:VEVENT
DTSTART;TZID=UTC:20250624T190000
DTEND;TZID=UTC:20250624T210000
DTSTAMP:20260423T225316
CREATED:20250128T035650Z
LAST-MODIFIED:20250128T035650Z
UID:2603-1750791600-1750798800@duranduranies.com
SUMMARY:Duran Duran at PSD Bank Dome in Düsseldorf\, Germany
DESCRIPTION:Duran Duran at PSD Bank Dome in Düsseldorf\, Germany\, 24 June\, 2025\n\n\n\n\nGet ready\, Düsseldorf! On June 24\, 2025\, Duran Duran is set to light up the PSD Bank Dome with an unforgettable performance you won’t want to miss. Known for its incredible acoustics and sleek design\, this iconic venue will provide the perfect setting for the band’s high-energy show. Before the concert\, explore Düsseldorf’s vibrant arts scene\, stroll along the luxury shopping street Königsallee\, or take in the stunning views along the Rhine River. Whether you’re savoring local Altbier in the historic Old Town or enjoying world-class dining\, Düsseldorf is the ideal city to kick off an epic night. Don’t miss your chance to see Duran Duran in this dynamic\, world-class venue—secure your tickets now! \nGET TICKETS
URL:https://duranduranies.com/event/duran-duran-at-psd-bank-dome-in-dusseldorf-germany-2/
LOCATION:PSD Bank Dome\, Düsseldorf\, Germany
CATEGORIES:Tours & Live Shows
ATTACH;FMTTYPE=image/jpeg:https://duranduranies.com/wp-content/uploads/2025/01/psd-bank-dome-duran-duran-germany.webp
END:VEVENT
END:VCALENDAR