BEGIN:VCALENDAR
VERSION:2.0
PRODID:-//DuranDuranies - ECPv6.15.20//NONSGML v1.0//EN
CALSCALE:GREGORIAN
METHOD:PUBLISH
X-WR-CALNAME:DuranDuranies
X-ORIGINAL-URL:https://duranduranies.com
X-WR-CALDESC:Events for DuranDuranies
REFRESH-INTERVAL;VALUE=DURATION:PT1H
X-Robots-Tag:noindex
X-PUBLISHED-TTL:PT1H
BEGIN:VTIMEZONE
TZID:UTC
BEGIN:STANDARD
TZOFFSETFROM:+0000
TZOFFSETTO:+0000
TZNAME:UTC
DTSTART:20250101T000000
END:STANDARD
END:VTIMEZONE
BEGIN:VEVENT
DTSTART;TZID=UTC:20260626T193000
DTEND;TZID=UTC:20260626T220000
DTSTAMP:20260421T035430
CREATED:20260322T003202Z
LAST-MODIFIED:20260322T003202Z
UID:3466-1782502200-1782511200@duranduranies.com
SUMMARY:Duran Duran at Schleyer-halle\, Stuttgart\, Germany
DESCRIPTION:HANNS-MARTIN-SCHLEYER-HALLE ARENA\nThe Hanns-Martin-Schleyer-Halle is Stuttgart’s large multifunctional event arena with a total capacity of more than 15\,000 visitors\, it is one of the largest event halls in Germany. \nDuran Duran previously played at Schleyer-Halle arena on April 5\, 1987\, during The Strange Behaviour Tour. \n \n 
URL:https://duranduranies.com/event/duran-duran-at-schleyer-halle-stuttgart-germany/
LOCATION:Schleyerhalle\, Mercedesstraße 50 Stuttgart\, Germany\, Germany
CATEGORIES:Tours & Live Shows
ATTACH;FMTTYPE=image/jpeg:https://duranduranies.com/wp-content/uploads/2025/03/dom-brown-duran-duran-new-projects-john-roger-simon-nick-live.webp
END:VEVENT
END:VCALENDAR