BEGIN:VCALENDAR
VERSION:2.0
PRODID:-//DuranDuranies - ECPv6.15.20//NONSGML v1.0//EN
CALSCALE:GREGORIAN
METHOD:PUBLISH
X-ORIGINAL-URL:https://duranduranies.com
X-WR-CALDESC:Events for DuranDuranies
REFRESH-INTERVAL;VALUE=DURATION:PT1H
X-Robots-Tag:noindex
X-PUBLISHED-TTL:PT1H
BEGIN:VTIMEZONE
TZID:UTC
BEGIN:STANDARD
TZOFFSETFROM:+0000
TZOFFSETTO:+0000
TZNAME:UTC
DTSTART:20240101T000000
END:STANDARD
END:VTIMEZONE
BEGIN:VEVENT
DTSTART;TZID=UTC:20251230T080000
DTEND;TZID=UTC:20251230T170000
DTSTAMP:20260423T091730
CREATED:20251027T000321Z
LAST-MODIFIED:20251027T000427Z
UID:3260-1767081600-1767114000@duranduranies.com
SUMMARY:Duran Duran at Acrisure Arena\, Thousand Palms\, CA
DESCRIPTION:Duran Duran at the Acrisure Arena\, Thousand Palms\, CA on December 30\, 2025
URL:https://duranduranies.com/event/duran-duran-at-acrisure-arena-thousand-palms-ca/
LOCATION:Acrisure Arena\, 75702 Varner Rd\, Palm Desert\, CA 92211\, 92211\, United States
CATEGORIES:Event,Tours & Live Shows
ATTACH;FMTTYPE=image/jpeg:https://duranduranies.com/wp-content/uploads/2025/03/dom-brown-duran-duran-new-projects-john-roger-simon-nick-live.webp
END:VEVENT
END:VCALENDAR