BEGIN:VCALENDAR
VERSION:2.0
PRODID:-//DuranDuranies - ECPv6.15.20//NONSGML v1.0//EN
CALSCALE:GREGORIAN
METHOD:PUBLISH
X-ORIGINAL-URL:https://duranduranies.com
X-WR-CALDESC:Events for DuranDuranies
REFRESH-INTERVAL;VALUE=DURATION:PT1H
X-Robots-Tag:noindex
X-PUBLISHED-TTL:PT1H
BEGIN:VTIMEZONE
TZID:UTC
BEGIN:STANDARD
TZOFFSETFROM:+0000
TZOFFSETTO:+0000
TZNAME:UTC
DTSTART:20240101T000000
END:STANDARD
END:VTIMEZONE
BEGIN:VEVENT
DTSTART;TZID=UTC:20251026T183000
DTEND;TZID=UTC:20251026T213000
DTSTAMP:20260423T123404
CREATED:20250730T230935Z
LAST-MODIFIED:20250730T231057Z
UID:3240-1761503400-1761514200@duranduranies.com
SUMMARY:Duran Duran at Motorpoint Arena Nottingham UK
DESCRIPTION:Motorpoint Arena NottinghamLocated in the heart of Nottingham’s bustling Lace Market district\, Motorpoint Arena is an indoor venue known for hosting iconic acts—and on October 26\, it’s Duran Duran’s turn. With a capacity of around 10\,000\, the venue offers great sightlines\, solid acoustics\, and a lively crowd energy perfect for singing along to Rio at full volume. Restaurants\, food and drink are on-site with many options. \nMotorpoint Arena NottinghamBolero SquareThe Lace MarketNottingham NG1 1LA \n \n\n\n \nWhere to stay:You’re spoiled for choice—stylish\, walkable hotels include Lace Market Hotel\, Ibis Nottingham Centre\, and Mercure Nottingham City Centre\, all within a 5–10 minute walk of the venue. \nWhat’s nearby:Before the show\, grab a bite or a drink in Hockley\, Nottingham’s cool\, indie neighborhood packed with cafes\, cocktail bars\, and vintage shops. Don’t miss a stroll through the historic Lace Market or pop into Nottingham Contemporary for art and atmosphere. \nGetting There by CarThere are plenty of car parks within a 10-minute walk of the arena\, but spots can fill up fast—booking in advance is your best bet. To avoid missing a single note\, plan to arrive early and allow extra time to get through city traffic. Looking to cut your carbon footprint? Consider joining a local car share scheme for a more eco-friendly ride to the show.
URL:https://duranduranies.com/event/duran-duran-at-motorpoint-arena-nottingham-uk/
LOCATION:Motorpoint Arena\, Bolero Square\, Nottingham\, United Kingdom
CATEGORIES:Tours & Live Shows
ATTACH;FMTTYPE=image/jpeg:https://duranduranies.com/wp-content/uploads/2025/07/duran-duran-live-in-concert-europe-2025-tour-duranie.avif
END:VEVENT
BEGIN:VEVENT
DTSTART;TZID=UTC:20251027T000000
DTEND;TZID=UTC:20251027T000000
DTSTAMP:20260423T123404
CREATED:20251027T000607Z
LAST-MODIFIED:20251027T000607Z
UID:3227-1761523200-1761523200@duranduranies.com
SUMMARY:Duran Duran Duran Duran at Motorpoint Arena
DESCRIPTION:Duran Duran at Motorpoint Arena \, Nottingham\, on 26 October\, 2025
URL:https://duranduranies.com/event/duran-duran-duran-duran-at-motorpoint-arena/
CATEGORIES:Tours & Live Shows
END:VEVENT
BEGIN:VEVENT
DTSTART;TZID=UTC:20251031T190000
DTEND;TZID=UTC:20251031T220000
DTSTAMP:20260423T123404
CREATED:20250730T232229Z
LAST-MODIFIED:20250730T232259Z
UID:3246-1761937200-1761948000@duranduranies.com
SUMMARY:Duran Duran's Halloween Show at Co-Op Live Manchester
DESCRIPTION:Duran Duran – Halloween Show at Co-op Live\, Manchester \nOn October 31\, Duran Duran take over Co-op Live for a Halloween night packed with spectacle and spooky surprises. Known for turning their Halloween shows into full-on theatrical events\, the band will transform Manchester’s newest and most advanced venue into a dance floor of dreams—and maybe a few nightmares. \n\n\n \nAs the UK’s only music-first arena\, Co-op Live delivers an experience like no other. With the largest floor space of any indoor venue\, a lower ceiling for deeper immersion\, and smartly tiered seating that brings every fan closer to the action\, it’s designed to feel electric from every angle. Cutting-edge visual tech\, crisp acoustics\, and an innovative sound bowl mean you won’t just hear the music—you’ll feel it. \nCome dressed to impress\, haunt\, or glam. Whether you’re channeling a haunted Wild Boy or just ready to dance all night\, Duran Duran’s Halloween show is set to be the most unforgettable gig of the season. \nREAD MORE
URL:https://duranduranies.com/event/duran-durans-halloween-at-co-op-live/
LOCATION:Co Op Live\, 1 Sports City Way\, Manchester\, United Kingdom
CATEGORIES:Tours & Live Shows
ATTACH;FMTTYPE=image/jpeg:https://duranduranies.com/wp-content/uploads/2024/11/evil_woman_video_duran_duran_ELO.webp
END:VEVENT
END:VCALENDAR