BEGIN:VCALENDAR
VERSION:2.0
PRODID:-//DuranDuranies - ECPv6.15.20//NONSGML v1.0//EN
CALSCALE:GREGORIAN
METHOD:PUBLISH
X-WR-CALNAME:DuranDuranies
X-ORIGINAL-URL:https://duranduranies.com
X-WR-CALDESC:Events for DuranDuranies
REFRESH-INTERVAL;VALUE=DURATION:PT1H
X-Robots-Tag:noindex
X-PUBLISHED-TTL:PT1H
BEGIN:VTIMEZONE
TZID:UTC
BEGIN:STANDARD
TZOFFSETFROM:+0000
TZOFFSETTO:+0000
TZNAME:UTC
DTSTART:20250101T000000
END:STANDARD
END:VTIMEZONE
BEGIN:VEVENT
DTSTART;TZID=UTC:20260104T000000
DTEND;TZID=UTC:20260104T000000
DTSTAMP:20260421T071512
CREATED:20251111T014007Z
LAST-MODIFIED:20251111T014007Z
UID:3295-1767484800-1767484800@duranduranies.com
SUMMARY:Duran Duran at Viejas Arena in San Diego\, CA
DESCRIPTION:Catch Duran Duran live at Viejas Arena in San Diego on Jan 4\, 2026—an 80s-iconic show at the 12\,400-seat venue you won’t want to miss! \nVenue Overview\nLocated on the campus of San Diego State University at 5500 Canyon Crest Drive\, the Viejas Arena opened in 1997 and serves both the Aztecs athletic programs and major live music events. Wikipedia+2Associated Students+2For concerts\, the capacity reaches up to about 12\,800. Wikipedia+1As a venue\, it strikes a balance: big enough for a major show\, but small enough that most seats still feel connected to the stage. \nThings to Know Before You Go\nHere’s your fan-friendly checklist to make sure your night at Viejas Arena with Duran Duran on January 4\, 2026 starts smooth: \n✅ Clearance & Bag Policy\n\n\nViejas is a clear-bag venue: only clear plastic or vinyl bags (max 12″ × 6″ × 12″) or one-gallon clear freezer bags allowed. Small purses up to 4.5″ × 6.5″ are permitted. Associated Students \n\n\nBackpacks? Leave ’em in the car. \n\n\nExpect security screening at entry—no shortcuts. \n\n\n🎟 Entry & Timing\n\n\nConcerts usually open 60–90 minutes prior to showtime. Heartlight San Diego+1 \n\n\nArrive early. Parking and crowds can become congested\, especially on a big-name act night. \n\n\nSitting upstairs? Enjoy better sight-lines. Floor sections? Get in early to stake your ground. \n\n\n🅿 Parking & Access\n\n\nParking lots P12 and P7 are commonly used for event parking. Associated Students+1 \n\n\nPublic transit: You can reach Viejas via the SDSU trolley/bus stop—ideal if you want to skip parking hassle. Reddit+1 \n\n\n🛍 Venue Comfort & Amenities\n\n\nThe sound and visuals are top-tier; many concert-goers praise the acoustics. Wanderlog \n\n\nDownsides: Some seats have steep climbs; food & drink can get pricey. Bring water if allowed or plan accordingly. \n\n\nNote that the arena is cashless—cards\, phone payments only. Associated Students \n\n\n🎤 Seating & View\n\n\nSection ratings emphasize that lower bowl seating (especially nearer to the stage) will deliver the best experience. See vantage points on “RateYourSeats”. Rate Your Seats \n\n\nStanding on floor? If your ticket is general admission\, arrive early for a decent spot; if seats\, aim for areas with airtime in front. \n\n\nSmart Fan Tips for the Night\n\n\nDress smart: This is San Diego in January—chilly enough to bring a light jacket\, but you’ll be warm once the lights drop. \n\n\nMerch: If you want band tees or limited editions\, consider arriving early (often before doors) to avoid long queues. \n\n\nPhone battery: Concert nights drain batteries fast—carry a battery pack if you’ll be documenting the show. \n\n\nEar protection: Real-deal advice from local concert-goers—bring earplugs for comfort\, especially if you’re near the floor. Reddit \n\n\nSeats vs. Floor: If you prefer to sing\, dance\, and move freely\, go floor. If you want comfort and view\, pick lower-bowl seats. \n\n\nPost-show exit: After a big show\, parking lot traffic can back up. Consider rideshare or walking to nearby parking if possible. \n\n\nVenue Vibes & Expectations\nExpect a night full of energy. Viejas Arena’s size means you’ll get both the intensity of a large show and the connection of a more intimate venue. For Duran Duran fans\, this means your front-row heart-moment (“The Reflex”\, “Ordinary World”) will land hard—and even up in the nosebleeds\, the sound and visuals hold up.
URL:https://duranduranies.com/event/duran-duran-at-the-bleaulive-theater-at-the-fontainebleau-las-vegas-2-2/
LOCATION:Viejas\, 5500 Canyon Crest Dr San Diego\, CA 92182\, CA\, United States
CATEGORIES:Tours & Live Shows
ATTACH;FMTTYPE=image/jpeg:https://duranduranies.com/wp-content/uploads/2025/11/duran-duran-san-diego-california.avif
ORGANIZER;CN="DuranDuranies.com":MAILTO:info@duranduranies.com
END:VEVENT
BEGIN:VEVENT
DTSTART;TZID=UTC:20260108T000000
DTEND;TZID=UTC:20260108T000000
DTSTAMP:20260421T071512
CREATED:20251111T015454Z
LAST-MODIFIED:20251111T015454Z
UID:3304-1767830400-1767830400@duranduranies.com
SUMMARY:Duran Duran at the Honda Center\, Anaheim\, CA
DESCRIPTION:Venue Overview\nLocated at 2695 East Katella Avenue\, Anaheim\, California 92806\, the Honda Center opened in 1993 and has since become a premier destination for major concerts and sporting events in Southern California. With a concert capacity typically ranging up to around 18\,000 seats (depending on staging configuration) it delivers big-show energy without losing the feeling of proximity. \nWhy It Works for Duran Duran\nFor fans of Duran Duran\, the Honda Center hits the sweet spot: large enough to host high-production visuals and sound\, yet intimate enough that you don’t feel miles away from the stage. Expect strong acoustics\, modern amenities\, and a layout that works whether you’re floor-standing or in the bowl. \n\nSmart Fan Tips & Things to Know\nHere’s what to keep in mind for your night at the show: \n🕒 Arrive EarlyVenue recommendations suggest arriving at least 60 minutes before doors open to account for parking\, traffic\, and entry screening. \n🚗 Parking & Transport \n\n\nOn-site parking is available\, but lots fill up quickly—pre-book where possible. \n\n\nThe surrounding area (OC Vibe/Platinum Triangle) is undergoing development\, so build in extra time for traffic and changes. \n\n\nConsider rideshare or public transit as alternatives to avoid parking stress. \n\n\n🎒 Bag & Entry Policy \n\n\nFor concerts: bags must generally be no larger than 5 in × 9 in × 2 in\, and backpacks are typically not permitted. \n\n\nThe venue is cashless—card or mobile payment only for concessions and parking. \n\n\n📍 Seating & Sightlines \n\n\nFloor tickets: Great for getting close to the action\, but prepare for standing and potentially tight crowding. \n\n\nBowl seats: Offer a more relaxed vantage point and still very good sound and view. \n\n\nIf you prefer some breathing room\, aim for lower to mid-terrace levels (200/300 sections). \n\n\n📱 Tech & Comfort \n\n\nBring a portable charger: Your phone will likely be used for photos\, maps\, rideshare apps\, etc. \n\n\nEar protection (earplugs) can help—near the stage the levels can get intense. \n\n\nDress in layers: Even though it’s Anaheim\, indoor arenas often run cooler\, and you’ll warm up during the show anyway. \n\n\n🍔 Food & Beverage \n\n\nThe Honda Center features multiple concession stands and restaurants (including an indoor-outdoor space called Brewery X Biergarten) for pre-show meals and drinks. \n\n\nPrices tend to be higher than normal\, so budgeting ahead is smart. \n\n\n🚪 Exiting & Post-Show \n\n\nThe area around the venue can get congested after a show. If you drove\, be patient with post-event traffic. \n\n\nIf you used rideshare\, be sure to locate your designated pickup spot ahead of time. \n\n\n\nSeeing Duran Duran at the Honda Center promises a night where production\, performance\, and fan energy all align. With a mix of hit-heavy setlists and deep cuts\, paired with a venue built to deliver big moments\, you’re in for something special. Pack smart\, arrive early\, and get ready to feel the reflex — it’s going to be a show worth remembering.
URL:https://duranduranies.com/event/duran-duran-at-the-bleaulive-theater-at-the-fontainebleau-las-vegas-2-2-2-2/
LOCATION:Honda Center\, Honda Center 2695 E Katella Ave Anaheim\, CA 92806-5904\, United States
CATEGORIES:Tours & Live Shows
ATTACH;FMTTYPE=image/jpeg:https://duranduranies.com/wp-content/uploads/2024/10/duran_duran_tour_live_setlist_songs.jpg
ORGANIZER;CN="DuranDuranies.com":MAILTO:info@duranduranies.com
END:VEVENT
BEGIN:VEVENT
DTSTART;TZID=UTC:20260109T000000
DTEND;TZID=UTC:20260109T000000
DTSTAMP:20260421T071512
CREATED:20251111T020056Z
LAST-MODIFIED:20251111T020056Z
UID:3308-1767916800-1767916800@duranduranies.com
SUMMARY:Duran Duran at Thunder Valley Casino\, Lincoln\, CA
DESCRIPTION:At a Glance\n\n\nAddress: 1200 Athens Avenue\, Lincoln\, CA near the city of Lincoln / Whitney\, ~30 miles northeast of Sacramento. \n\n\nCapacity: Approx. 4\,500 seats (all indoors) for concerts. \n\n\nOpening & Features: The Venue opened in early 2023 as part of the resort expansion — 150\,000 square feet\, cutting-edge sound and video systems\, multi-level design. \n\n\nWhy it’s a good pick for Duranies: A size like this means you’re closer to the stage\, the production values are top-tier\, and you avoid the vastness of massive arenas — perfect for a band like Duran Duran with both hits and deep cuts. \n\n\n\nWhat to Know Before You Go\nHere are vital tips to make the night smooth and memorable: \n🎫 Arrival & Doors\n\n\nDoors typically open around 60 minutes before show time. \n\n\nPlan extra time for arrival — resort traffic\, parking\, and entry screening can eat minutes. \n\n\nArrive early if you want to grab merch or get a preferred spot (for floor or GA) and avoid last-minute rush. \n\n\n🚗 Parking & Access\n\n\nParking is on-site at the resort. While capacity is good\, consider arriving early to secure a convenient spot. \n\n\nThe resort is a bit outside major urban centers\, so rideshare options may be slower rural than big-city venues. \n\n\nBecause it’s near Sacramento\, if you’re coming from farther\, consider accommodations and traffic early. \n\n\n🎒 Bag & Entry Policies\n\n\nThe official FAQ says there is a bag policy — expect sealed water bottles only (no tumblers/camelbacks) in many cases. Thunder Valley Casino Resort \n\n\nBackpacks or large bags may be restricted. \n\n\nNo coat check or personal storage in the venue — plan to store extra items in your car or hotel room. \n\n\n📍 Seating\, Sightlines & Sound\n\n\nWith a 4\,500 capacity\, even your upper seats will feel closer than many large-arena shows. \n\n\nThe venue was designed with precise acoustics (see L-Acoustics system) so sound quality tends to hold up well throughout the house. \n\n\nFloor standing or GA sections are likely most energetic — go early if you want front-zone. \n\n\nIf you prefer comfort and view\, choose seats in the lower bowl or sections where sightlines are less steep. \n\n\n🍔 Food\, Drink & Comfort\n\n\nThe resort offers multiple dining options and bar access throughout the venue space. \n\n\nExpect standard concert pricing for concessions; arrive early if you want pre-show food. \n\n\nDress in layers — even indoor venues can be cool until the energy ramps up. \n\n\n🔋 Phones\, Photos\, & Post-Show\n\n\nBring a portable charger — capturing moments or navigating rideshare will use battery. \n\n\nCheck whether the show allows phones/photos — some events restrict depending on production. \n\n\nAfter the show\, exiting may take a few minutes while crowds depart; plan accordingly. \n\n\n\nFinal Fan Notes\n\n\nSince this is a resort venue\, consider making the night a full-experience: dinner\, show\, maybe stay overnight — especially if you’re traveling. \n\n\nCozy enough to feel connected\, but spacious enough to allow major production — this show promises a night where you won’t feel like just another face in the crowd. \n\n\nFor fans of Duran Duran’s setlist diversity\, this venue gives a chance to hear both big hits and perhaps deeper gems in a setting where you’ll see the band\, not just watch screens. \n\n\nGet your gear ready\, your Duranie spirit locked in\, and prepare for a standout night at The Venue at Thunder Valley. The lights drop\, the bass thumps — and you’re part of it.
URL:https://duranduranies.com/event/duran-duran-at-yaamava-theater-highland-ca-2/
LOCATION:Thunder Valley Casino\, 1200 Athens Ave Lincoln\, CA 95648\, United States
CATEGORIES:Tours & Live Shows
ATTACH;FMTTYPE=image/jpeg:https://duranduranies.com/wp-content/uploads/2024/04/duranduranies_live_concerts_tour_duran_duran.jpeg
ORGANIZER;CN="DuranDuranies.com":MAILTO:info@duranduranies.com
END:VEVENT
END:VCALENDAR