BEGIN:VCALENDAR
VERSION:2.0
PRODID:-//DuranDuranies - ECPv6.15.20//NONSGML v1.0//EN
CALSCALE:GREGORIAN
METHOD:PUBLISH
X-ORIGINAL-URL:https://duranduranies.com
X-WR-CALDESC:Events for DuranDuranies
REFRESH-INTERVAL;VALUE=DURATION:PT1H
X-Robots-Tag:noindex
X-PUBLISHED-TTL:PT1H
BEGIN:VTIMEZONE
TZID:UTC
BEGIN:STANDARD
TZOFFSETFROM:+0000
TZOFFSETTO:+0000
TZNAME:UTC
DTSTART:20330101T000000
END:STANDARD
END:VTIMEZONE
BEGIN:VEVENT
DTSTART;VALUE=DATE:20340620
DTEND;VALUE=DATE:20340621
DTSTAMP:20260421T052252
CREATED:20241115T230756Z
LAST-MODIFIED:20241115T230756Z
UID:1955-2034374400-2034460799@duranduranies.com
SUMMARY:John Taylor Birthday 2034
DESCRIPTION:Happy Birthday John! \nJohn Taylor\, born Nigel John Taylor on June 20\, 1960\, in England. Learn more about John here \n\n\n\nBorn:\nMonday\, June 20\, 1960 (time unknown)\n\n\nIn:\nBirmingham (United Kingdom)\n\n\nSun:\n29°06′ Gemini\n\n\n\n\nMoon:\n18°34′ Taurus\n\n\n\n\nDominants:\nTaurus\, Gemini\, Cancer\nJupiter\, Saturn\, Mercury\nEarth\, Air / Mutable\n\n\nChinese Astrology:\nMetal Rat\n\n\nNumerology:\nBirth Path 6\n\n\nHeight:\nJohn Taylor (guitarist) is 6′ 2″ (1m88) tall
URL:https://duranduranies.com/event/john-taylor-birthday-2034/
CATEGORIES:Event
ATTACH;FMTTYPE=image/jpeg:https://duranduranies.com/wp-content/uploads/2024/05/johntaylor_solo_duranduran_duranies.jpeg
END:VEVENT
BEGIN:VEVENT
DTSTART;VALUE=DATE:20341027
DTEND;VALUE=DATE:20341028
DTSTAMP:20260421T052252
CREATED:20241118T152837Z
LAST-MODIFIED:20241118T153423Z
UID:1969-2045520000-2045606399@duranduranies.com
SUMMARY:Simon Le Bon Birthday 2034
DESCRIPTION:HAPPY BIRTHDAY SIMON JOHN CHARLES LE BON (CHARLIE)\nSimon Le Bon was born on October 27\, 1958. Bushey\, United Kingdom\nLearn more about Simon here\n\n\n\n\n\n\n\nSpouse: Yasmin Le Bon (m. 1985)\nMusic groups: Duran Duran (Since 1980)\, Arcadia\, Band Aid (1984 – 1984)\nChildren: Amber Le Bon\, Saffron Le Bon\, Tallulah Le Bon\nGrandchildren: Taro\, Skye\, plus on on the way via Amber\nParents: John Le Bon\, Ann-Marie Le Bon\nHeight: 6′ 2″\nSimon Le Bon is estimated to have a net worth of around $60 million (£45.6m).\nThroughout his career\, Le Bon has been awarded three Ivor Novello Awards by the British Academy of Songwriters\, Composers\, and Authors. He was also honored with an MBE award.\n\n\n\n\n\nSIMON’S BIRTHCHART / ASTROLOGY\n\n\n\n\nBorn:\nMonday\, October 27\, 1958\, 9:00 PM\n\n\nIn:\nBushey\, Hertfordshire (United Kingdom)\n\n\nSun:\n3°56′ Scorpio\nAS:\n19°30′ Cancer\n\n\nMoon:\n6°20′ Taurus\nMC:\n19°29′ Pisces\n\n\nDominants:\nScorpio\, Taurus\, Cancer\nMoon\, Neptune\, Pluto\nHouses 5\, 11\, 3 / Water\, Earth / Fixed\n\n\nChinese Astrology:\nEarth Dog\n\n\nNumerology:\nBirth Path 6
URL:https://duranduranies.com/event/simon-le-bon-birthday-2034/
CATEGORIES:Event
ATTACH;FMTTYPE=image/jpeg:https://duranduranies.com/wp-content/uploads/2024/05/Simon_Lebon_DuranDuran_Duranies_skinny90s.jpeg
END:VEVENT
BEGIN:VEVENT
DTSTART;VALUE=DATE:20350216
DTEND;VALUE=DATE:20350217
DTSTAMP:20260421T052252
CREATED:20241116T001452Z
LAST-MODIFIED:20241116T001452Z
UID:2064-2055196800-2055283199@duranduranies.com
SUMMARY:Andy Taylor Birthday 2035
DESCRIPTION:Happy Birthday Andy!\nAndrew James Taylor (born 16 February 1961)\, he lives in Ibizia Spain. \nLearn more about Duran Duran here \n\n\n\nBorn: 1961 (age 63 years)\, Cullercoats\, United Kingdom\n\n\n\n\n\n\nSpouse: Tracey Wilson (m. 1982)\n\n\n\n\n\n\nMusic groups: Duran Duran\, The Power Station (1984 – 1985) \n\n\n\n\n\n\nHeight: 5′ 6″\n\n\n\n\n\n\nFormerly of: Duran Duran; The Power Station\nBirth Sign Aquarius\nAndy played the guitar on Belinda Carlisle’s hit single “Mad About You.”
URL:https://duranduranies.com/event/andy-taylor-birthday-2035/
CATEGORIES:Event
ATTACH;FMTTYPE=image/jpeg:https://duranduranies.com/wp-content/uploads/2024/11/andy_taylor_duran_duran_power_station.jpg
END:VEVENT
BEGIN:VEVENT
DTSTART;VALUE=DATE:20350426
DTEND;VALUE=DATE:20350427
DTSTAMP:20260421T052252
CREATED:20241115T234641Z
LAST-MODIFIED:20241115T234641Z
UID:2020-2061158400-2061244799@duranduranies.com
SUMMARY:Roger Taylor Birthday 2035
DESCRIPTION:Roger Taylor was born April 26\, 1960 in Birmingham\, England. \nLearn more about Roger here \nSpouse: Gisella Bernales (m. 2007)\, Giovanna Cantone (m. 1984–2005) \nMusic groups: Duran Duran\, Arcadia (1985 – 1986) \nChildren: 4 \n\n\n\nHeight: 5′ 8″
URL:https://duranduranies.com/event/roger-taylor-birthday-2035/
CATEGORIES:Event
ATTACH;FMTTYPE=image/jpeg:https://duranduranies.com/wp-content/uploads/2022/10/Roger_Taylor_DuranDuran_drums_Duranies.jpeg
END:VEVENT
BEGIN:VEVENT
DTSTART;VALUE=DATE:20350608
DTEND;VALUE=DATE:20350609
DTSTAMP:20260421T052252
CREATED:20241115T232820Z
LAST-MODIFIED:20241115T232820Z
UID:1998-2064873600-2064959999@duranduranies.com
SUMMARY:Nick Rhodes Birthday 2035
DESCRIPTION:Happy birthday Nick! \nNick Rhodes\, born Nicholas James Bates on June 8\, 1962\, in Moseley\, Birmingham\, England\, is best known as the co-founder and keyboardist of the iconic band Duran Duran. Learn more about Nick here
URL:https://duranduranies.com/event/nick-rhodes-birthday-2035/
CATEGORIES:Event
ATTACH;FMTTYPE=image/jpeg:https://duranduranies.com/wp-content/uploads/2024/04/nick_rhodes_birthday_June8.jpeg
END:VEVENT
BEGIN:VEVENT
DTSTART;VALUE=DATE:20350614
DTEND;VALUE=DATE:20350615
DTSTAMP:20260421T052252
CREATED:20241115T235802Z
LAST-MODIFIED:20241115T235802Z
UID:2041-2065392000-2065478399@duranduranies.com
SUMMARY:Dom Brown Birthday 2035
DESCRIPTION:Happy Birthday Dom!\nBIRTHDAY June 14\, 1972 \nLearn more about Duran Duran here \nBIRTH SIGN Gemini \nBIRTHPLACE England \nDom is not an official member of Duran Duran but has been touring with the band for many years and contributes to studio recordings. Dom first appeared with Duran Duran in December 2004 as a stand-in for Andy Taylor. He was hired to record guitar parts for their next album\, Red Carpet Massacre (2007)\, and perform on the supporting world tour. He co-wrote 13 of the 15 tracks on the band’s 2011 album All You Need Is Now and 4 of the 12 tracks on their 2015 album Paper Gods. \nDom has co-written six released songs with Mark Ronson and shares other writing credits with Anamatronic (Scissor Sisters)\, Mr Hudson\, Kelis\, Jahméne Douglas (X Factor 2012 runner-up)\, Sandi Thom\, Tom Grennan (BBC Introducing 2017 nominee) and Nick Hodgson (Kaiser Chiefs). \nDom composed and produced the music for an hour-long episode of BBC1 drama\, The Canterbury Tales. He has performed on TV with Elton John\, Rod Stewart\, Lionel Richie\, Take That\, Robin Gibb\, Christina Aguilera\, Enrique Iglesias\, Eddie Grant\, Eagle Eye Cherry and Girls Aloud. He also released three critically acclaimed solo albums (the latest\, In my Bones in 2021) and a critically acclaimed blues album with Blue to Brown (featuring his voice artist father Rob Brown). \nHe began playing guitar at the age of 14. He started a band called Nexus when he was 16. He went on tour with his father\, musician Rob Brown.
URL:https://duranduranies.com/event/dom-brown-birthday-2035/
CATEGORIES:Event
ATTACH;FMTTYPE=image/jpeg:https://duranduranies.com/wp-content/uploads/2024/05/dom_brown_duranduran_duranies.jpeg
END:VEVENT
BEGIN:VEVENT
DTSTART;VALUE=DATE:20350620
DTEND;VALUE=DATE:20350621
DTSTAMP:20260421T052252
CREATED:20241115T230827Z
LAST-MODIFIED:20241115T230827Z
UID:1956-2065910400-2065996799@duranduranies.com
SUMMARY:John Taylor Birthday 2035
DESCRIPTION:Happy Birthday John! \nJohn Taylor\, born Nigel John Taylor on June 20\, 1960\, in England. Learn more about John here \n\n\n\nBorn:\nMonday\, June 20\, 1960 (time unknown)\n\n\nIn:\nBirmingham (United Kingdom)\n\n\nSun:\n29°06′ Gemini\n\n\n\n\nMoon:\n18°34′ Taurus\n\n\n\n\nDominants:\nTaurus\, Gemini\, Cancer\nJupiter\, Saturn\, Mercury\nEarth\, Air / Mutable\n\n\nChinese Astrology:\nMetal Rat\n\n\nNumerology:\nBirth Path 6\n\n\nHeight:\nJohn Taylor (guitarist) is 6′ 2″ (1m88) tall
URL:https://duranduranies.com/event/john-taylor-birthday-2035/
CATEGORIES:Event
ATTACH;FMTTYPE=image/jpeg:https://duranduranies.com/wp-content/uploads/2024/05/johntaylor_solo_duranduran_duranies.jpeg
END:VEVENT
BEGIN:VEVENT
DTSTART;VALUE=DATE:20351027
DTEND;VALUE=DATE:20351028
DTSTAMP:20260421T052252
CREATED:20241118T152915Z
LAST-MODIFIED:20241118T153510Z
UID:1970-2077056000-2077142399@duranduranies.com
SUMMARY:Simon Le Bon Birthday 2035
DESCRIPTION:HAPPY BIRTHDAY SIMON JOHN CHARLES LE BON (CHARLIE)\nSimon Le Bon was born on October 27\, 1958. Bushey\, United Kingdom\nLearn more about Simon here\n\n\n\n\n\n\n\nSpouse: Yasmin Le Bon (m. 1985)\nMusic groups: Duran Duran (Since 1980)\, Arcadia\, Band Aid (1984 – 1984)\nChildren: Amber Le Bon\, Saffron Le Bon\, Tallulah Le Bon\nGrandchildren: Taro\, Skye\, plus on on the way via Amber\nParents: John Le Bon\, Ann-Marie Le Bon\nHeight: 6′ 2″\nSimon Le Bon is estimated to have a net worth of around $60 million (£45.6m).\nThroughout his career\, Le Bon has been awarded three Ivor Novello Awards by the British Academy of Songwriters\, Composers\, and Authors. He was also honored with an MBE award.\n\n\n\n\n\nSIMON’S BIRTHCHART / ASTROLOGY\n\n\n\n\nBorn:\nMonday\, October 27\, 1958\, 9:00 PM\n\n\nIn:\nBushey\, Hertfordshire (United Kingdom)\n\n\nSun:\n3°56′ Scorpio\nAS:\n19°30′ Cancer\n\n\nMoon:\n6°20′ Taurus\nMC:\n19°29′ Pisces\n\n\nDominants:\nScorpio\, Taurus\, Cancer\nMoon\, Neptune\, Pluto\nHouses 5\, 11\, 3 / Water\, Earth / Fixed\n\n\nChinese Astrology:\nEarth Dog\n\n\nNumerology:\nBirth Path 6
URL:https://duranduranies.com/event/simon-le-bon-birthday-2035/
CATEGORIES:Event
ATTACH;FMTTYPE=image/jpeg:https://duranduranies.com/wp-content/uploads/2024/05/Simon_Lebon_DuranDuran_Duranies_skinny90s.jpeg
END:VEVENT
END:VCALENDAR