BEGIN:VCALENDAR
VERSION:2.0
PRODID:-//DuranDuranies - ECPv6.15.20//NONSGML v1.0//EN
CALSCALE:GREGORIAN
METHOD:PUBLISH
X-ORIGINAL-URL:https://duranduranies.com
X-WR-CALDESC:Events for DuranDuranies
REFRESH-INTERVAL;VALUE=DURATION:PT1H
X-Robots-Tag:noindex
X-PUBLISHED-TTL:PT1H
BEGIN:VTIMEZONE
TZID:UTC
BEGIN:STANDARD
TZOFFSETFROM:+0000
TZOFFSETTO:+0000
TZNAME:UTC
DTSTART:20240101T000000
END:STANDARD
END:VTIMEZONE
BEGIN:VEVENT
DTSTART;VALUE=DATE:20250608
DTEND;VALUE=DATE:20250609
DTSTAMP:20260423T194411
CREATED:20240420T235933Z
LAST-MODIFIED:20241115T232150Z
UID:888-1749340800-1749427199@duranduranies.com
SUMMARY:Nick Rhodes Birthday
DESCRIPTION:Happy birthday Nick! \nNick Rhodes\, born Nicholas James Bates on June 8\, 1962\, in Moseley\, Birmingham\, England\, is best known as the co-founder and keyboardist of the iconic band Duran Duran. Learn more about Nick here
URL:https://duranduranies.com/event/nick-rhodes-birthday-2025/
CATEGORIES:Event
ATTACH;FMTTYPE=image/jpeg:https://duranduranies.com/wp-content/uploads/2024/04/nick_rhodes_birthday_June8.jpeg
END:VEVENT
BEGIN:VEVENT
DTSTART;VALUE=DATE:20250614
DTEND;VALUE=DATE:20250615
DTSTAMP:20260423T194411
CREATED:20240514T010303Z
LAST-MODIFIED:20241115T235138Z
UID:1041-1749859200-1749945599@duranduranies.com
SUMMARY:Dom Brown Birthday
DESCRIPTION:Happy Birthday Dom!\nBIRTHDAY June 14\, 1972 \nLearn more about Duran Duran here \nBIRTH SIGN Gemini \nBIRTHPLACE England \nDom is not an official member of Duran Duran but has been touring with the band for many years and contributes to studio recordings. Dom first appeared with Duran Duran in December 2004 as a stand-in for Andy Taylor. He was hired to record guitar parts for their next album\, Red Carpet Massacre (2007)\, and perform on the supporting world tour. He co-wrote 13 of the 15 tracks on the band’s 2011 album All You Need Is Now and 4 of the 12 tracks on their 2015 album Paper Gods. \nDom has co-written six released songs with Mark Ronson and shares other writing credits with Anamatronic (Scissor Sisters)\, Mr Hudson\, Kelis\, Jahméne Douglas (X Factor 2012 runner-up)\, Sandi Thom\, Tom Grennan (BBC Introducing 2017 nominee) and Nick Hodgson (Kaiser Chiefs). \nDom composed and produced the music for an hour-long episode of BBC1 drama\, The Canterbury Tales. He has performed on TV with Elton John\, Rod Stewart\, Lionel Richie\, Take That\, Robin Gibb\, Christina Aguilera\, Enrique Iglesias\, Eddie Grant\, Eagle Eye Cherry and Girls Aloud. He also released three critically acclaimed solo albums (the latest\, In my Bones in 2021) and a critically acclaimed blues album with Blue to Brown (featuring his voice artist father Rob Brown). \nHe began playing guitar at the age of 14. He started a band called Nexus when he was 16. He went on tour with his father\, musician Rob Brown.
URL:https://duranduranies.com/event/dom-brown-birthday/
CATEGORIES:Event
ATTACH;FMTTYPE=image/jpeg:https://duranduranies.com/wp-content/uploads/2024/05/dom_brown_duranduran_duranies.jpeg
END:VEVENT
BEGIN:VEVENT
DTSTART;VALUE=DATE:20250620
DTEND;VALUE=DATE:20250621
DTSTAMP:20260423T194411
CREATED:20240514T224517Z
LAST-MODIFIED:20241115T215226Z
UID:1033-1750377600-1750463999@duranduranies.com
SUMMARY:John Taylor Birthday 2025
DESCRIPTION:Happy Birthday John! \nJohn Taylor\, born Nigel John Taylor on June 20\, 1960\, in England. Learn more about John here \n\n\n\nBorn:\nMonday\, June 20\, 1960 (time unknown)\n\n\nIn:\nBirmingham (United Kingdom)\n\n\nSun:\n29°06′ Gemini\n\n\n\n\nMoon:\n18°34′ Taurus\n\n\n\n\nDominants:\nTaurus\, Gemini\, Cancer\nJupiter\, Saturn\, Mercury\nEarth\, Air / Mutable\n\n\nChinese Astrology:\nMetal Rat\n\n\nNumerology:\nBirth Path 6\n\n\nHeight:\nJohn Taylor (guitarist) is 6′ 2″ (1m88) tall
URL:https://duranduranies.com/event/john-taylor-birthday-2025/
CATEGORIES:Event
ATTACH;FMTTYPE=image/jpeg:https://duranduranies.com/wp-content/uploads/2024/05/johntaylor_solo_duranduran_duranies.jpeg
END:VEVENT
END:VCALENDAR