BEGIN:VCALENDAR
VERSION:2.0
PRODID:-//DuranDuranies - ECPv6.15.20//NONSGML v1.0//EN
CALSCALE:GREGORIAN
METHOD:PUBLISH
X-ORIGINAL-URL:https://duranduranies.com
X-WR-CALDESC:Events for DuranDuranies
REFRESH-INTERVAL;VALUE=DURATION:PT1H
X-Robots-Tag:noindex
X-PUBLISHED-TTL:PT1H
BEGIN:VTIMEZONE
TZID:UTC
BEGIN:STANDARD
TZOFFSETFROM:+0000
TZOFFSETTO:+0000
TZNAME:UTC
DTSTART:20250101T000000
END:STANDARD
END:VTIMEZONE
BEGIN:VEVENT
DTSTART;VALUE=DATE:20261221
DTEND;VALUE=DATE:20261222
DTSTAMP:20260420T231337
CREATED:20241221T170728Z
LAST-MODIFIED:20241221T170728Z
UID:2447-1797811200-1797897599@duranduranies.com
SUMMARY:All You Need Is Now Released Dec. 21\, 2010
DESCRIPTION:On December 21\, 2010\, Duran Duran unveiled their thirteenth studio album\, All You Need is Now\, as a 9-track exclusive on iTunes. In March 2011\, the full physical 14-song album hit the shelves—March 21 in Europe and March 22 in North America. \nREAD MORE HERE \n\n\n \nTracks\nDigital Release \n\n“All You Need Is Now”\n“Blame the Machines”\n“Being Followed”\n“Leave a Light On”\n“Safe (In the Heat of the Moment)” (featuring Ana Matronic)\n“Girl Panic!”\n“The Man Who Stole a Leopard” (featuring Kelis)\n“Runway Runaway”\n“Before the Rain”\nRead more
URL:https://duranduranies.com/event/all-you-need-is-now-released-in-2011-4/
CATEGORIES:Event
ATTACH;FMTTYPE=image/png:https://duranduranies.com/wp-content/uploads/2024/12/all-you-need-is-now-duran-duran-album-duranies-png.webp
ORGANIZER;CN="DuranDuranies.com":MAILTO:info@duranduranies.com
END:VEVENT
BEGIN:VEVENT
DTSTART;VALUE=DATE:20271221
DTEND;VALUE=DATE:20271222
DTSTAMP:20260420T231337
CREATED:20241221T170755Z
LAST-MODIFIED:20241221T170755Z
UID:2448-1829347200-1829433599@duranduranies.com
SUMMARY:All You Need Is Now Released Dec. 21\, 2010
DESCRIPTION:On December 21\, 2010\, Duran Duran unveiled their thirteenth studio album\, All You Need is Now\, as a 9-track exclusive on iTunes. In March 2011\, the full physical 14-song album hit the shelves—March 21 in Europe and March 22 in North America. \nREAD MORE HERE \n\n\n \nTracks\nDigital Release \n\n“All You Need Is Now”\n“Blame the Machines”\n“Being Followed”\n“Leave a Light On”\n“Safe (In the Heat of the Moment)” (featuring Ana Matronic)\n“Girl Panic!”\n“The Man Who Stole a Leopard” (featuring Kelis)\n“Runway Runaway”\n“Before the Rain”\nRead more
URL:https://duranduranies.com/event/all-you-need-is-now-released-in-2011-5/
CATEGORIES:Event
ATTACH;FMTTYPE=image/png:https://duranduranies.com/wp-content/uploads/2024/12/all-you-need-is-now-duran-duran-album-duranies-png.webp
ORGANIZER;CN="DuranDuranies.com":MAILTO:info@duranduranies.com
END:VEVENT
BEGIN:VEVENT
DTSTART;VALUE=DATE:20281221
DTEND;VALUE=DATE:20281222
DTSTAMP:20260420T231337
CREATED:20241221T170821Z
LAST-MODIFIED:20241221T170821Z
UID:2449-1860969600-1861055999@duranduranies.com
SUMMARY:All You Need Is Now Released Dec. 21\, 2010
DESCRIPTION:On December 21\, 2010\, Duran Duran unveiled their thirteenth studio album\, All You Need is Now\, as a 9-track exclusive on iTunes. In March 2011\, the full physical 14-song album hit the shelves—March 21 in Europe and March 22 in North America. \nREAD MORE HERE \n\n\n \nTracks\nDigital Release \n\n“All You Need Is Now”\n“Blame the Machines”\n“Being Followed”\n“Leave a Light On”\n“Safe (In the Heat of the Moment)” (featuring Ana Matronic)\n“Girl Panic!”\n“The Man Who Stole a Leopard” (featuring Kelis)\n“Runway Runaway”\n“Before the Rain”\nRead more
URL:https://duranduranies.com/event/all-you-need-is-now-released-in-2011-6/
CATEGORIES:Event
ATTACH;FMTTYPE=image/png:https://duranduranies.com/wp-content/uploads/2024/12/all-you-need-is-now-duran-duran-album-duranies-png.webp
ORGANIZER;CN="DuranDuranies.com":MAILTO:info@duranduranies.com
END:VEVENT
BEGIN:VEVENT
DTSTART;VALUE=DATE:20291221
DTEND;VALUE=DATE:20291222
DTSTAMP:20260420T231337
CREATED:20241221T170848Z
LAST-MODIFIED:20241221T170848Z
UID:2450-1892505600-1892591999@duranduranies.com
SUMMARY:All You Need Is Now Released Dec. 21\, 2010
DESCRIPTION:On December 21\, 2010\, Duran Duran unveiled their thirteenth studio album\, All You Need is Now\, as a 9-track exclusive on iTunes. In March 2011\, the full physical 14-song album hit the shelves—March 21 in Europe and March 22 in North America. \nREAD MORE HERE \n\n\n \nTracks\nDigital Release \n\n“All You Need Is Now”\n“Blame the Machines”\n“Being Followed”\n“Leave a Light On”\n“Safe (In the Heat of the Moment)” (featuring Ana Matronic)\n“Girl Panic!”\n“The Man Who Stole a Leopard” (featuring Kelis)\n“Runway Runaway”\n“Before the Rain”\nRead more
URL:https://duranduranies.com/event/all-you-need-is-now-released-in-2011-7/
CATEGORIES:Event
ATTACH;FMTTYPE=image/png:https://duranduranies.com/wp-content/uploads/2024/12/all-you-need-is-now-duran-duran-album-duranies-png.webp
ORGANIZER;CN="DuranDuranies.com":MAILTO:info@duranduranies.com
END:VEVENT
BEGIN:VEVENT
DTSTART;VALUE=DATE:20301221
DTEND;VALUE=DATE:20301222
DTSTAMP:20260420T231337
CREATED:20241221T170929Z
LAST-MODIFIED:20241221T170929Z
UID:2451-1924041600-1924127999@duranduranies.com
SUMMARY:All You Need Is Now Released Dec. 21\, 2010
DESCRIPTION:On December 21\, 2010\, Duran Duran unveiled their thirteenth studio album\, All You Need is Now\, as a 9-track exclusive on iTunes. In March 2011\, the full physical 14-song album hit the shelves—March 21 in Europe and March 22 in North America. \nREAD MORE HERE \n\n\n \nTracks\nDigital Release \n\n“All You Need Is Now”\n“Blame the Machines”\n“Being Followed”\n“Leave a Light On”\n“Safe (In the Heat of the Moment)” (featuring Ana Matronic)\n“Girl Panic!”\n“The Man Who Stole a Leopard” (featuring Kelis)\n“Runway Runaway”\n“Before the Rain”\nRead more
URL:https://duranduranies.com/event/all-you-need-is-now-released-in-2011-8/
CATEGORIES:Event
ATTACH;FMTTYPE=image/png:https://duranduranies.com/wp-content/uploads/2024/12/all-you-need-is-now-duran-duran-album-duranies-png.webp
ORGANIZER;CN="DuranDuranies.com":MAILTO:info@duranduranies.com
END:VEVENT
BEGIN:VEVENT
DTSTART;VALUE=DATE:20311221
DTEND;VALUE=DATE:20311222
DTSTAMP:20260420T231337
CREATED:20241221T171014Z
LAST-MODIFIED:20241221T171014Z
UID:2452-1955577600-1955663999@duranduranies.com
SUMMARY:All You Need Is Now Released Dec. 21\, 2010
DESCRIPTION:On December 21\, 2010\, Duran Duran unveiled their thirteenth studio album\, All You Need is Now\, as a 9-track exclusive on iTunes. In March 2011\, the full physical 14-song album hit the shelves—March 21 in Europe and March 22 in North America. \nREAD MORE HERE \n\n\n \nTracks\nDigital Release \n\n“All You Need Is Now”\n“Blame the Machines”\n“Being Followed”\n“Leave a Light On”\n“Safe (In the Heat of the Moment)” (featuring Ana Matronic)\n“Girl Panic!”\n“The Man Who Stole a Leopard” (featuring Kelis)\n“Runway Runaway”\n“Before the Rain”\nRead more
URL:https://duranduranies.com/event/all-you-need-is-now-released-in-2011-9/
CATEGORIES:Event
ATTACH;FMTTYPE=image/png:https://duranduranies.com/wp-content/uploads/2024/12/all-you-need-is-now-duran-duran-album-duranies-png.webp
ORGANIZER;CN="DuranDuranies.com":MAILTO:info@duranduranies.com
END:VEVENT
BEGIN:VEVENT
DTSTART;VALUE=DATE:20331221
DTEND;VALUE=DATE:20331222
DTSTAMP:20260420T231337
CREATED:20241221T171115Z
LAST-MODIFIED:20241221T171149Z
UID:2454-2018736000-2018822399@duranduranies.com
SUMMARY:All You Need Is Now Released Dec. 21\, 2010
DESCRIPTION:On December 21\, 2010\, Duran Duran unveiled their thirteenth studio album\, All You Need is Now\, as a 9-track exclusive on iTunes. In March 2011\, the full physical 14-song album hit the shelves—March 21 in Europe and March 22 in North America. \nREAD MORE HERE \n\n\n \nTracks\nDigital Release \n\n“All You Need Is Now”\n“Blame the Machines”\n“Being Followed”\n“Leave a Light On”\n“Safe (In the Heat of the Moment)” (featuring Ana Matronic)\n“Girl Panic!”\n“The Man Who Stole a Leopard” (featuring Kelis)\n“Runway Runaway”\n“Before the Rain”\nRead more
URL:https://duranduranies.com/event/all-you-need-is-now-released-in-2011/
CATEGORIES:Event
ATTACH;FMTTYPE=image/png:https://duranduranies.com/wp-content/uploads/2024/12/all-you-need-is-now-duran-duran-album-duranies-png.webp
ORGANIZER;CN="DuranDuranies.com":MAILTO:info@duranduranies.com
END:VEVENT
END:VCALENDAR