BEGIN:VCALENDAR
VERSION:2.0
PRODID:-//DuranDuranies - ECPv6.15.20//NONSGML v1.0//EN
CALSCALE:GREGORIAN
METHOD:PUBLISH
X-WR-CALNAME:DuranDuranies
X-ORIGINAL-URL:https://duranduranies.com
X-WR-CALDESC:Events for DuranDuranies
REFRESH-INTERVAL;VALUE=DURATION:PT1H
X-Robots-Tag:noindex
X-PUBLISHED-TTL:PT1H
BEGIN:VTIMEZONE
TZID:UTC
BEGIN:STANDARD
TZOFFSETFROM:+0000
TZOFFSETTO:+0000
TZNAME:UTC
DTSTART:20210101T000000
END:STANDARD
END:VTIMEZONE
BEGIN:VEVENT
DTSTART;VALUE=DATE:20241221
DTEND;VALUE=DATE:20241222
DTSTAMP:20260420T044415
CREATED:20241221T165916Z
LAST-MODIFIED:20241221T170402Z
UID:2440-1734739200-1734825599@duranduranies.com
SUMMARY:All You Need Is Now Released Dec. 21\, 2010
DESCRIPTION:On December 21\, 2010\, Duran Duran unveiled their thirteenth studio album\, All You Need is Now\, as a 9-track exclusive on iTunes. In March 2011\, the full physical 14-song album hit the shelves—March 21 in Europe and March 22 in North America. \nREAD MORE HERE \n\n\n \nTracks\nDigital Release \n\n“All You Need Is Now”\n“Blame the Machines”\n“Being Followed”\n“Leave a Light On”\n“Safe (In the Heat of the Moment)” (featuring Ana Matronic)\n“Girl Panic!”\n“The Man Who Stole a Leopard” (featuring Kelis)\n“Runway Runaway”\n“Before the Rain”\nRead more
URL:https://duranduranies.com/event/all-you-need-is-now-released-in-2011-3/
CATEGORIES:Event
ATTACH;FMTTYPE=image/png:https://duranduranies.com/wp-content/uploads/2024/12/all-you-need-is-now-duran-duran-album-duranies-png.webp
ORGANIZER;CN="DuranDuranies.com":MAILTO:info@duranduranies.com
END:VEVENT
BEGIN:VEVENT
DTSTART;VALUE=DATE:20241219
DTEND;VALUE=DATE:20241220
DTSTAMP:20260420T044415
CREATED:20241221T011220Z
LAST-MODIFIED:20241221T012752Z
UID:2362-1734566400-1734652799@duranduranies.com
SUMMARY:Ordinary World Released Dec 19 1992
DESCRIPTION:HAPPY BIRTHDAY ORDINARY WORLD\n“Ordinary World” was released on 19 December 1992 as the first single from Duran Duran’s Wedding Album. It peaked at number three on the Billboard Hot 100\, number 2 is Iceland and Sweden\, and number 6 on the UK Singles Chart.  \nRead more
URL:https://duranduranies.com/event/ordinary_world_released/
CATEGORIES:Event
ATTACH;FMTTYPE=image/jpeg:https://duranduranies.com/wp-content/uploads/2024/12/ordinary_world_duran_duran.webp
END:VEVENT
BEGIN:VEVENT
DTSTART;VALUE=DATE:20241121
DTEND;VALUE=DATE:20241122
DTSTAMP:20260420T044415
CREATED:20241118T175122Z
LAST-MODIFIED:20241118T175122Z
UID:2124-1732147200-1732233599@duranduranies.com
SUMMARY:Seven and the Ragged Tiger Album Released
DESCRIPTION:Seven and the Ragged Tiger is the third album from Duran Duran\, released on November 21\, 1983. The date is also the annual celebration of DURANGIVING\, an annual charity day of giving organized by Duran Duran’s fan. \nLearn more here  \n\n\n \nTrack Listing\nAll tracks written by Simon Le Bon\, Andy Taylor\, John Taylor\, Roger Taylor\, and Nick Rhodes unless noted. \nSide A\n\n“The Reflex” – 5:26\n“New Moon on Monday” – 4:15\n“(I’m Looking for) Cracks in the Pavement” – 3:38\n“I Take the Dice” – 3:15\n“Of Crime and Passion” – 3:48\n\nSide B\n\n“Union of the Snake” – 4:20\n“Shadows on Your Side” – 4:03\n“Tiger Tiger” – 3:20\n“The Seventh Stranger” – 5:24\n\n\n2010 Limited Edition CD 2\n\n“Is There Something I Should Know?” – 4:11\n“Faith in This Colour” – 4:07\n“Faith in This Colour” (alternate slow mix) – 4:06\n“Secret Oktober” – 2:45\n“Tiger Tiger” (Ian Little remix) – 3:25\n“The Reflex” (single version) – 4:25\n“Make Me Smile (Come Up and See Me)” (live) – Steve Harley – 4:58\n“New Religion” (live at the LA Forum 9/2/84) – 5:47\n“The Reflex” (live at the LA Forum 9/2/84) – 5:59\n“Is There Something I Should Know?” (monster mix) – 6:40\n“Union of the Snake” (monkey mix) – 6:26\n“New Moon on Monday” (dance mix) – 6:03\n“The Reflex” (dance mix) – 6:35\n\n\nPersonnel\nDuran Duran\n\nSimon Le Bon – lead vocals\nAndy Taylor – guitar\nJohn Taylor – bass\nRoger Taylor – drums\nNick Rhodes – keyboards\n\nAdditional Musicians\n\nAndy Hamilton – soprano and tenor saxophone\nRafael de Jesus – percussion\nMark Kennedy – percussion\nMichelle Cobbs – backing vocals on “Union of the Snake” and “The Reflex”\nB. J. Nelson – backing vocals on “Union of the Snake” and “The Reflex”\n\nProduction\n\nAlex Sadkin – producer\nIan Little – associate producer\nDuran Duran – associate producers\nPhil Thornalley – recording and mixing engineer\nPeter Wade-Schwier – recording engineer\nJim Taig – tape operator\nMalcolm Garrett – graphic design\nKeith Breeden – illustration\n\n 
URL:https://duranduranies.com/event/seven-and-the-ragged-tiger-album-released/
CATEGORIES:Event
ATTACH;FMTTYPE=image/jpeg:https://duranduranies.com/wp-content/uploads/2024/05/Duran-Duran-Album-Seven-and-the-Ragged-Tiger.jpg
END:VEVENT
BEGIN:VEVENT
DTSTART;VALUE=DATE:20241121
DTEND;VALUE=DATE:20241122
DTSTAMP:20260420T044415
CREATED:20241111T001120Z
LAST-MODIFIED:20241115T213507Z
UID:1727-1732147200-1732233599@duranduranies.com
SUMMARY:Durangiving
DESCRIPTION:Held every year on November 21st—the anniversary of the release of Seven and the Ragged Tiger—Durangiving encourages fans to support charitable organizations\, either through donations or volunteer hours\, and help make the world a better place. \nLearn more here
URL:https://duranduranies.com/event/durangiving/
CATEGORIES:Event
ATTACH;FMTTYPE=image/png:https://duranduranies.com/wp-content/uploads/2024/11/duranie_thanksgiving_dinner_setting_centerpiece.png
ORGANIZER;CN="DuranDuranies.com":MAILTO:info@duranduranies.com
END:VEVENT
BEGIN:VEVENT
DTSTART;TZID=UTC:20241031T190000
DTEND;TZID=UTC:20241031T220000
DTSTAMP:20260420T044415
CREATED:20240912T141636Z
LAST-MODIFIED:20240912T183915Z
UID:1607-1730401200-1730412000@duranduranies.com
SUMMARY:Danse Macabre at Madison Square Garden
DESCRIPTION:Duran Duran is bringing DANSE MACABRE to Madison Square Garden on October 31\, 2024\, for a Halloween night you won’t forget! This special show will be packed with haunting hits and eerie tracks from their latest album. After last year’s unforgettable performance\, this iconic band is upping the ante at the iconic MSG—expect spooky vibes\, killer tunes\, and a concert experience that’s a total treat.
URL:https://duranduranies.com/event/danse-macabre-at-madison-square-garden/
LOCATION:Madison Square Garden\, 4 Pennsylvania Plz\, New York\, NY 10001\, United States
CATEGORIES:Tours & Live Shows
ATTACH;FMTTYPE=image/jpeg:https://duranduranies.com/wp-content/uploads/2024/09/Duran-Duran-Halloween-Show.jpeg
END:VEVENT
BEGIN:VEVENT
DTSTART;TZID=UTC:20241028T190000
DTEND;TZID=UTC:20241028T220000
DTSTAMP:20260420T044415
CREATED:20240912T140855Z
LAST-MODIFIED:20240912T140855Z
UID:1604-1730142000-1730152800@duranduranies.com
SUMMARY:CFG Bank Arena\, Baltimore MD
DESCRIPTION:Duran Duran is set to bring their electrifying energy to Baltimore’s Event Center on October 28\, 2024\, just in time for Halloween. The iconic band will thrill fans with timeless hits while embracing the spooky season with tracks from their latest album\, DANSE MACABRE. Expect their signature blend of synth-pop\, rock\, and hauntingly good vibes to keep the audience dancing all night. This show promises the perfect mix of nostalgia\, fresh sounds\, and eerie fun\, making it a must-see event for Duran Duran fans.
URL:https://duranduranies.com/event/cfg-bank-arena-baltimore-md/
LOCATION:CFG Bank Arena\, 201 W Baltimore St Baltimore\, MD 21201\, Baltimore\, MD\, 21201\, United States
CATEGORIES:Tours & Live Shows
ATTACH;FMTTYPE=image/jpeg:https://duranduranies.com/wp-content/uploads/2024/05/IMG_0606-scaled.jpeg
END:VEVENT
BEGIN:VEVENT
DTSTART;TZID=UTC:20241026T190000
DTEND;TZID=UTC:20241026T220000
DTSTAMP:20260420T044415
CREATED:20240912T140014Z
LAST-MODIFIED:20240912T140014Z
UID:1601-1729969200-1729980000@duranduranies.com
SUMMARY:Borgata Event Center\, Atlantic City NJ
DESCRIPTION:Duran Duran brought their iconic sound to the Borgata Event Center on October 26 for an unforgettable night. The legendary band performed a mix of fan-favorite hits alongside tracks from their latest album\, DANSE MACABRE. With their signature blend of synth-pop\, rock\, and irresistible energy\, they kept the crowd on their feet\, delivering the perfect mix of nostalgia and fresh tunes.
URL:https://duranduranies.com/event/borgata-event-center-atlantic-city-nj/
LOCATION:Borgata Event Center\, One Borgata Way Atlantic City\, NJ 08401\, Atlantic City\, NJ\, NJ\, 08401\, United States
CATEGORIES:Tours & Live Shows
ATTACH;FMTTYPE=image/jpeg:https://duranduranies.com/wp-content/uploads/2024/05/duranduran_duranies_rogertaylor_livedrums_drummer.jpeg
END:VEVENT
BEGIN:VEVENT
DTSTART;TZID=UTC:20241025T190000
DTEND;TZID=UTC:20241025T220000
DTSTAMP:20260420T044415
CREATED:20240912T135014Z
LAST-MODIFIED:20240912T135428Z
UID:1597-1729882800-1729893600@duranduranies.com
SUMMARY:Mohegan Sun Arena\, Uncasville CT
DESCRIPTION:You can sing and dance to classics like “Hungry Like the Wolf” and “Rio\,” but they truly come alive under the night sky—the perfect soundtrack for whispered secrets on the dance floor. Inducted into the Rock and Roll Hall of Fame® in 2022\, they’ve sold over 100 million albums\, earned two GRAMMYs®\, BRIT Awards\, and more\, including the only James Bond theme to hit #1 in the US. Sampled by The Notorious B.I.G. and covered by Muse\, Duran Duran has left a lasting legacy. With their 16th album\, DANSE MACABRE\, they light up the darkness once again.
URL:https://duranduranies.com/event/mohegan-sun-arena-uncasville-ct/
LOCATION:Mohegan Sun Arena\, 1 Mohegan Sun Blvd\, Uncasville\, CT 06382\, 06382\, United States
CATEGORIES:Tours & Live Shows
ATTACH;FMTTYPE=image/jpeg:https://duranduranies.com/wp-content/uploads/2024/09/JTduranduranies.jpeg
END:VEVENT
BEGIN:VEVENT
DTSTART;TZID=UTC:20241023T000000
DTEND;TZID=UTC:20241023T190000
DTSTAMP:20260420T044415
CREATED:20240821T142045Z
LAST-MODIFIED:20240821T142119Z
UID:1555-1729641600-1729710000@duranduranies.com
SUMMARY:Event Center at Turning Stone Resort Casino
DESCRIPTION:Duran Duran at The Event Center at Turning Stone Resort Casino \, Verona\, NY \nOctober 23\, 2024 \n\n5218 Patrick Rd Verona\, NY 13478\n\nThe Event Center at Turning Stone Resort Casino\, located at 5218 Patrick Rd\, Verona\, NY 13478\, is a premier venue for hosting a wide variety of events in Central New York. This versatile space is part of the renowned Turning Stone Resort Casino\, offering a sophisticated setting for concerts\, conferences\, weddings\, and special events. The Event Center features state-of-the-art audiovisual capabilities\, flexible seating arrangements\, and elegant décor\, making it an ideal choice for both large-scale gatherings and intimate occasions. With easy access to the resort’s luxury accommodations\, dining\, and entertainment options\, guests can enjoy a seamless and memorable experience at this top-tier event destination.
URL:https://duranduranies.com/event/ppl-center-allentown-pa-2/
LOCATION:Event Center at Turning Point Casino\, 5218 Patrick Rd\, Verona\, NY
CATEGORIES:Tours & Live Shows
ATTACH;FMTTYPE=image/jpeg:https://duranduranies.com/wp-content/uploads/2024/04/duranduranies_live_concerts_tour_duran_duran.jpeg
END:VEVENT
BEGIN:VEVENT
DTSTART;TZID=UTC:20241021T000000
DTEND;TZID=UTC:20241021T000000
DTSTAMP:20260420T044415
CREATED:20240821T141308Z
LAST-MODIFIED:20240821T141342Z
UID:1551-1729468800-1729468800@duranduranies.com
SUMMARY:PPL Center\, Allentown\, PA
DESCRIPTION:Duran Duran at the PPL Center\, Allentown\, PA \n701 Hamilton Street Allentown\, PA. 18101. (610) 224-4625\n\nOctober 21\, 2024 \nThe PPL Center is a state-of-the-art multipurpose arena located in the heart of downtown Allentown\, PA. Designed to accommodate a wide range of events\, from thrilling sports competitions to world-class concerts\, this modern venue boasts a seating capacity of over 8\,500 for hockey games and up to 10\,000 for concerts and other events. The PPL Center features cutting-edge technology\, premium seating options\, and a variety of dining and entertainment amenities\, making it a premier destination for both locals and visitors.
URL:https://duranduranies.com/event/ppl-center-allentown-pa/
LOCATION:PPL Center\, 701 Hamilton Street\, Allentown\, PA\, United States
CATEGORIES:Tours & Live Shows
ATTACH;FMTTYPE=image/jpeg:https://duranduranies.com/wp-content/uploads/2024/05/IMG_0686.jpeg
END:VEVENT
BEGIN:VEVENT
DTSTART;TZID=UTC:20240730T193000
DTEND;TZID=UTC:20240730T193000
DTSTAMP:20260420T044415
CREATED:20240419T235540Z
LAST-MODIFIED:20240514T204935Z
UID:842-1722367800-1722367800@duranduranies.com
SUMMARY:Pula\, Croatia
DESCRIPTION:DURAN DURAN at Pula Arena \nThe band is returning to Croatia seven years after a sold-out concert at the Šalata Stadium in Zagreb. The new performance in Croatia is scheduled at perhaps the most beautiful concert venue this part of Europe has to offer. \nThe performance at the Pula Arena will be the culmination of an exceptionally active concert period for Duran Duran\, including sold-out shows in arenas across the UK\, Ireland\, Canada\, and North America\, such as Madison Square Garden in New York. The Telegraph describes their live performances as decadent and bombastic\, The Times accords them royal status\, and Clash says it’s “a first-class performance” while The Spectator calls Duran Duran a “national treasure.” Domestic audiences\, as well as those from the entire region\, will have the opportunity to see them at the grand summer open-air spectacle on July 30 at the Pula Arena. \nTickets for the Pula performance go on sale on Friday\, February 2\, at 10:00 a.m. Early bird prices for standing are 87 euros\, for seated tribunes 119 euros\, and for standing upper lawn 68 euros. \n\n\nFlavijevska ulica\nPula\, Croatia
URL:https://duranduranies.com/event/pula-croatia/
LOCATION:pula arena\, Croatia (Local Name: Hrvatska)
CATEGORIES:Tours & Live Shows
END:VEVENT
BEGIN:VEVENT
DTSTART;TZID=UTC:20240728T200000
DTEND;TZID=UTC:20240728T200000
DTSTAMP:20260420T044415
CREATED:20240419T235255Z
LAST-MODIFIED:20240514T205153Z
UID:839-1722196800-1722196800@duranduranies.com
SUMMARY:Latitude Festival 2024
DESCRIPTION:Duran Duran have always revelled in the shadows\, playing with artistic\, aesthetic\, and emotional extremes. As much as you can move and shout along to the timeless chants of Hungry Like the Wolf\,Ordinary World\, or Rio\, it feels most natural do sounder the cover of night. They’re the ultimate soundtrack to sharing secrets in close whispers on the dance floor before the lights go up. Inducted into the Rock and Roll Hall of Fame®in 2022\, they’ve sold north of 100 million albums around the world in addition to scoring 18 American chart hits and 21 Top 20 UK smashes. Their various awards and accolades have included two GRAMMY®Awards\, two Ivor Novellos\, two BRIT Awards (including“Outstanding Contribution to Music”in 2004)\, and a star on the Hollywood Walk of Fame. They penned the only James Bond theme to reach #1 in the US\, while David Lynch helmed their concert film. You can hear them sampled in songs by everyone from The Notorious B.I.G. to 5 Seconds of Summer and in reverent covers by Muse\, Deftones\, and more. Rio has claimed spots on Q’s “100 Greatest British Albums\,” NME’s “100 Greatest Albums of All Time\,”and Pitchfork’s “Top 100 Albums of the 1980s.” Summing up their enduring impact\,Vanity Fair proclaimed\,“Duran Duran’s always been about constant innovation and the ‘new’.”Given a penchant and flair for fashion\, rock music never looked the same after their emergence either. Their impact as style icons has been well-documented by WWD\, Vogue\, and more. In between selling out shows worldwide\,2021’s FUTURE PAST saw the group earn widespread acclaim from Salon\,Rolling Stone\, and more. Now\, the iconic UK quartet unearth bright melodies from darkness as they thread together new tunes\, covers\, and alternate versions of classics on their 16th full-length offering\, DANSE MACABRE [Tape Modern/BMG].
URL:https://duranduranies.com/event/latitude-festival-2024/
LOCATION:Henham Park Henham Barns Southwold\, United Kingdom\, Henham Park Henham Barns Southwold\, United Kingdom\, United Kingdom
CATEGORIES:Tours & Live Shows
END:VEVENT
BEGIN:VEVENT
DTSTART;TZID=UTC:20240725T200000
DTEND;TZID=UTC:20240725T200000
DTSTAMP:20260420T044415
CREATED:20240419T235001Z
LAST-MODIFIED:20240514T205204Z
UID:836-1721937600-1721937600@duranduranies.com
SUMMARY:Monte Carlo Summer Fest
DESCRIPTION:Duran Duran\, Monte Carlo Summer Fest\n\n\n\n\nSalle des Étoiles \n\n\n26 Av. Princesse Grace\nMONACO\, Monaco\n\n\n\nInformation\n\n\n\n\nDate: 25 july 2024\nVenue: Salle des Étoiles\nConcert type: Dinner-show\nOpening doors: 08:00 pm\nBeginning of the concert: From 10.30 pm\nDress code: Proper attire required\nMinimum age: 7 years\nMail: ticketoffice@sbm.mc\nOfficial website: https://duranduran.com\nValet parking\n\n\n\n\n\nDuran Duran\, the legendary pop-rock group\, has made music history since their debut in the 1980s. After an 18-year hiatus\, the five founding members reunited in 2002 to record a new album and go on tour\, sparking unprecedented global excitement.
URL:https://duranduranies.com/event/monte-carlo-summer-fest/
LOCATION:monaco\, Monaco
CATEGORIES:Tours & Live Shows
END:VEVENT
BEGIN:VEVENT
DTSTART;TZID=UTC:20240723T193000
DTEND;TZID=UTC:20240723T193000
DTSTAMP:20260420T044415
CREATED:20240419T234650Z
LAST-MODIFIED:20240514T205215Z
UID:833-1721763000-1721763000@duranduranies.com
SUMMARY:Lucca Summer Festival
DESCRIPTION:Duran Duran headlining July 23 at the Lucca Summer Festival\n\n\nTUESDAY 23 JULY\n\nVENUE:\nLUCCA SUMMER FESTIVAL 2024 \n\nH.:\n21\,00 \n\nTICKETS:\n\nTribuna Numerata €. 100\,00 + prev.\nFloor Reserved Seats gold €. 100\,00 + prev.\nFloor Reserved Seats €. 87\,00 + prev.\nFloor Reserved Seats Obstructed View 1 €. 87\,00 + prev.\nFloor Reserved Seats II €. 78\,00 + prev.\nFloor Reserved Seats Obstructed View 2 €. 78\,00 + prev.\nGeneral Admission €. 60\,00 + prev.\n\n\n\n\n\n\n  \n\n\n\n\n\n\n\nFROM FLORENCE\nA11(motorway) called Firenze-Mare and exit at Lucca Est or Lucca Ovest. \nFROM GENOA\nA12 (motorway) to Viareggio then the raccordo A11-A12 (motorway link) and exit at Lucca Est or Lucca Ovest. \nFROM MILAN\nA1(motorway) towards Bologna then at La Spezia take the A15 (motorway)to Viareggio then take the raccordo A11-12 (motorway link) and exit at Lucca Est or Lucca Ovest \nFROM PISA\nSS12 (road) and head for Lucca city centre. \nFROM ROME\nA1(motorway) towards Florence then the A11 and exit at Lucca Est or Ovest. \nFROM BOLOGNA\nA1 (motorway) towards Florence then the A11 and exit at Lucca Est or Lucca Ovest. \nFROM VIAREGGIO\nA11-12 raccordo (motorway) and exit at Lucca Est or Lucca Ovest. \n\n\n\nPiazza Napoleone \n\n\nPiazza Napoleone 27\nLucca\, Italy
URL:https://duranduranies.com/event/lucca-summer-festival-2/
LOCATION:Piazza Napoleone Piazza Napoleone 27 Lucca\, Italy\, Piazza Napoleone Piazza Napoleone 27 Lucca\, Italy\, Italy
CATEGORIES:Tours & Live Shows
END:VEVENT
BEGIN:VEVENT
DTSTART;TZID=UTC:20240721T200000
DTEND;TZID=UTC:20240721T200000
DTSTAMP:20260420T044415
CREATED:20240419T234351Z
LAST-MODIFIED:20240514T220424Z
UID:830-1721592000-1721592000@duranduranies.com
SUMMARY:Lucca Summer Festival
DESCRIPTION:Duran Duran headlining July 21 at the Lucca Summer Festival\n\n\n\nFROM FLORENCE\nA11(motorway) called Firenze-Mare and exit at Lucca Est or Lucca Ovest. \nFROM GENOA\nA12 (motorway) to Viareggio then the raccordo A11-A12 (motorway link) and exit at Lucca Est or Lucca Ovest. \nFROM MILAN\nA1(motorway) towards Bologna then at La Spezia take the A15 (motorway)to Viareggio then take the raccordo A11-12 (motorway link) and exit at Lucca Est or Lucca Ovest \nFROM PISA\nSS12 (road) and head for Lucca city centre. \nFROM ROME\nA1(motorway) towards Florence then the A11 and exit at Lucca Est or Ovest. \nFROM BOLOGNA\nA1 (motorway) towards Florence then the A11 and exit at Lucca Est or Lucca Ovest. \nFROM VIAREGGIO\nA11-12 raccordo (motorway) and exit at Lucca Est or Lucca Ovest. \n\n\nPiazza Napoleone \n\n\nPiazza Napoleone 27\nLucca\, Italy
URL:https://duranduranies.com/event/lucca-summer-festival/
LOCATION:Italy\, Italy
CATEGORIES:Tours & Live Shows
END:VEVENT
BEGIN:VEVENT
DTSTART;TZID=UTC:20240720T200000
DTEND;TZID=UTC:20240720T200000
DTSTAMP:20260420T044415
CREATED:20240419T233845Z
LAST-MODIFIED:20240514T220434Z
UID:827-1721505600-1721505600@duranduranies.com
SUMMARY:Montreux Jazz Festival 2024
DESCRIPTION:Duran Duran\nMontreux Jazz Festival 2024\n\n\n\n\n\nMontreux\, Switzerland\n\n\nThe Montreux Jazz Festival takes place for two weeks every summer in Switzerland\, on the shores of Lake Geneva. Created in 1967 by Claude Nobs and directed by Mathieu Jaton since 2013\, the Montreux Jazz Festival has become over the years an essential event\, generating fantastic stories and legendary performances. An eye-catching stage will be built on the lake\, below the Place du Marché\, offering the public a breathtaking view.
URL:https://duranduranies.com/event/montreux-jazz-festival-2024/
LOCATION:Lake Geneva\, Switzerland
CATEGORIES:Tours & Live Shows
END:VEVENT
BEGIN:VEVENT
DTSTART;TZID=UTC:20240718T200000
DTEND;TZID=UTC:20240718T200000
DTSTAMP:20260420T044415
CREATED:20240419T233315Z
LAST-MODIFIED:20240514T220443Z
UID:824-1721332800-1721332800@duranduranies.com
SUMMARY:Release Athens 2024 Festival
DESCRIPTION:Duran Duran\nRelease Athens 2024\nThe iconic British rock band\, Duran Duran\, has been unveiled as the headliners for the 2024 edition of the Release Athens festival.\n\n\n\n\nPlateia Nerou \n\n\nLeof. Posidonos 2616\nKallithéa\, Greece
URL:https://duranduranies.com/event/release-athens-2024-festival/
LOCATION:Plateia Nerou (Olympic Pole Faliro)\, Leof. Posidonos 2616 Kallithéa\, Greece
CATEGORIES:Tours & Live Shows
END:VEVENT
BEGIN:VEVENT
DTSTART;TZID=UTC:20240519T193000
DTEND;TZID=UTC:20240519T213000
DTSTAMP:20260420T044415
CREATED:20240419T232656Z
LAST-MODIFIED:20240514T220453Z
UID:820-1716147000-1716154200@duranduranies.com
SUMMARY:Lucas Oil Live at WinStar World Casino and Resort
DESCRIPTION:MAY 19\nDuran Duran\nLucas Oil Live at WinStar World Casino and Resort\n\n\n\nWelcome Pop Royalty\n\nIn the realm of modern pop and new wave music\, Duran Duran is without a doubt one of the most revered acts of all time. For over four decades\, this British-based band has enchanted audiences with a fusion of styles and songwriting that is absolutely original to them alone. Songs like “Hungry Like the Wolf\,” “Rio” and “Girls On Film” will forever live in the zeitgeist of contemporary music and find their way into the airwaves on stations across the globe. \nOn May 19\, Lucas Oil Live will set the stage for this iconic act as they play their biggest hits to a 6\,500-seat audience. WinStar World Casino & Resort invites you to experience Duran Duran in a setting that is as dynamic as it is energetic. \nDoors open 1.5 hours before showtime. \n  \n\n2106 World Way Rd \nThackerville\, OK 73459
URL:https://duranduranies.com/event/lucas-oil-live-at-winstar-world-casino-and-resort/
LOCATION:Lucas Oil Live at WinStar\, 2106 World Way Rd\, Thackerville\, 73459\, United States
END:VEVENT
BEGIN:VEVENT
DTSTART;TZID=UTC:20240517T193000
DTEND;TZID=UTC:20240517T213000
DTSTAMP:20260420T044415
CREATED:20240419T232242Z
LAST-MODIFIED:20240514T205121Z
UID:817-1715974200-1715981400@duranduranies.com
SUMMARY:Steelhouse Omaha
DESCRIPTION:Duran Duran\nMay 17\, 2024 8:00 pm\n  \n– Doors at 6:30 PM | Show at 8:00 PM\n– Preordered parking available at the National Indemnity Garage @ 322 N 12th Street – preorder through ParkWhiz in advance!\n– Clear bags up to 12x6x12” or small clutches 6.5×4.5″\n– Cashless payments only\n\n1100 Dodge Street\nOmaha\, NE 68104
URL:https://duranduranies.com/event/steelhouse-omaha/
LOCATION:Steelhouse Omaha\\, 1100 Dodge Street\, Omaha\, 68104\, United States
CATEGORIES:Tours & Live Shows
END:VEVENT
BEGIN:VEVENT
DTSTART;TZID=UTC:20240514T183000
DTEND;TZID=UTC:20240514T210000
DTSTAMP:20260420T044415
CREATED:20240419T231859Z
LAST-MODIFIED:20240514T220503Z
UID:814-1715711400-1715720400@duranduranies.com
SUMMARY:Sandia Casino Amphitheater
DESCRIPTION:Sandia Casino Amphitheater \n30 Rainbow Rd\,\nAlbuquerque\, NM 87113
URL:https://duranduranies.com/event/sandia-casino-amphitheater/
LOCATION:Sandia Casino\, 30 Rainbow Rd\, Albuquerque\, NM\, 87113\, United States
CATEGORIES:Tours & Live Shows
END:VEVENT
BEGIN:VEVENT
DTSTART;TZID=UTC:20240511T120000
DTEND;TZID=UTC:20240511T200000
DTSTAMP:20260420T044415
CREATED:20240419T231435Z
LAST-MODIFIED:20240419T231435Z
UID:811-1715428800-1715457600@duranduranies.com
SUMMARY:Cruel World Festival
DESCRIPTION:Duran Duran to headline Cruel World Festival\, 2024
URL:https://duranduranies.com/event/cruel-world-festival/
LOCATION:Brookside Golf Course\, 1133 Rosemont Ave\, Pasadena\, CA\, 91103\, United States
CATEGORIES:Tours & Live Shows
END:VEVENT
BEGIN:VEVENT
DTSTART;TZID=UTC:20240504T180000
DTEND;TZID=UTC:20240504T200000
DTSTAMP:20260420T044415
CREATED:20240418T145434Z
LAST-MODIFIED:20240419T145636Z
UID:758-1714845600-1714852800@duranduranies.com
SUMMARY:Encore At Wynn Las Vegas
DESCRIPTION:Duran Duran at the Encore Theater\, Las Vegas\, NV Night 2
URL:https://duranduranies.com/event/encore-at-wynn-las-vegas/
LOCATION:Encore Theater at Wynn Las Vegas\, 3131 S Las Vegas Blvd\, Las Vegas\, NV\, United States
CATEGORIES:Tours & Live Shows
END:VEVENT
BEGIN:VEVENT
DTSTART;TZID=UTC:20240503T180000
DTEND;TZID=UTC:20240503T210000
DTSTAMP:20260420T044415
CREATED:20240418T135924Z
LAST-MODIFIED:20240419T145739Z
UID:753-1714759200-1714770000@duranduranies.com
SUMMARY:Encore Theater\, Las Vegas\, NV
DESCRIPTION:Duran Duran at the Encore Theater at Wynn Las Vegas\, NV
URL:https://duranduranies.com/event/encore-theater-las-vegas-nv/
LOCATION:Encore Theater at Wynn Las Vegas\, 3131 S Las Vegas Blvd\, Las Vegas\, NV\, United States
CATEGORIES:Tours & Live Shows
END:VEVENT
BEGIN:VEVENT
DTSTART;TZID=UTC:20221103T080000
DTEND;TZID=UTC:20221103T170000
DTSTAMP:20260420T044415
CREATED:20221015T041740Z
LAST-MODIFIED:20221015T041740Z
UID:642-1667462400-1667494800@duranduranies.com
SUMMARY:A Hollywood High Docu-Concert
DESCRIPTION:In this feature length docu-concert film\, Duran Duran celebrate their four decade long career\, the release of their latest studio album FUTURE PAST\, and the launch of a global world tour. An extraordinary night of music\, shot on a Los Angeles rooftop\, with the iconic Capitol Tower behind them and the Hollywood sign in the distance\, the film was directed by three award-winning industry veterans – Gavin Elder\, Vincent Adam Paul and George Scott. A Hollywood High reminds us of Duran Duran’s prolific and diverse song writing\, and captures their boundless live energy. The film also brings to life the band’s deep and lasting relationship with Los Angeles\, through exclusive new interviews\, behind-the-scenes video and unseen archival footage\, charting the band’s rise to become one of the most influential and successful groups of all time. It’s a celebration from beginning to end that will have everyone on their feet dancing!
URL:https://duranduranies.com/event/a-hollywood-high-docu-concert/
CATEGORIES:Film
ATTACH;FMTTYPE=image/jpeg:https://duranduranies.com/wp-content/uploads/2022/10/duranduran_hollywood_high_movie_poster.jpeg
END:VEVENT
END:VCALENDAR