BEGIN:VCALENDAR
VERSION:2.0
PRODID:-//DuranDuranies - ECPv6.15.20//NONSGML v1.0//EN
CALSCALE:GREGORIAN
METHOD:PUBLISH
X-ORIGINAL-URL:https://duranduranies.com
X-WR-CALDESC:Events for DuranDuranies
REFRESH-INTERVAL;VALUE=DURATION:PT1H
X-Robots-Tag:noindex
X-PUBLISHED-TTL:PT1H
BEGIN:VTIMEZONE
TZID:UTC
BEGIN:STANDARD
TZOFFSETFROM:+0000
TZOFFSETTO:+0000
TZNAME:UTC
DTSTART:20340101T000000
END:STANDARD
END:VTIMEZONE
BEGIN:VEVENT
DTSTART;VALUE=DATE:20350615
DTEND;VALUE=DATE:20350616
DTSTAMP:20260420T091823
CREATED:20241116T003911Z
LAST-MODIFIED:20241116T003911Z
UID:2089-2065478400-2065564799@duranduranies.com
SUMMARY:Duran Duran First Album Released
DESCRIPTION:HAPPY DURAN DURAN RELEASE DAY JUNE 15!\nDuran Duran’s self-titled debut album\, released on June 15\, 1981\, marked the beginning of the English pop rock band’s career. Produced by Colin Thurston\, the album was recorded between December 1980 and January 1981 in London and Oxfordshire. Instrumental tracks came together quickly\, but lead singer Simon Le Bon faced challenges in the studio\, sparking brief discussions about replacing him before EMI’s Dave Ambrose stepped in to resolve the situation. \nDrawing inspiration from artists like David Bowie\, the Human League\, Japan\, and Chic\, the album blends synthesizer-driven pop with atmospheric elements of disco\, punk\, and dance. Simon Le Bon’s enigmatic lyrics explore themes of youthful struggles and the band’s ambitions. Visuals for the album and its singles were crafted by designer Malcolm Garrett. \nThe album spawned three singles\, each supported by music videos that played a significant role in its success. The provocative video for “Girls on Film” stirred controversy but also boosted visibility for MTV in the United States. \nThe album has been recognized for its innovative sound\, helping to define the New Romantic movement. It was remastered and reissued in 2010 as a special edition featuring additional demos and live recordings. \nSee Duran Duran’s first video\, Planet Earth and learn more here
URL:https://duranduranies.com/event/duran-duran-first-album-released-35/
CATEGORIES:Event
ATTACH;FMTTYPE=image/jpeg:https://duranduranies.com/wp-content/uploads/2024/11/duranduran_first_album.jpg
END:VEVENT
BEGIN:VEVENT
DTSTART;VALUE=DATE:20350620
DTEND;VALUE=DATE:20350621
DTSTAMP:20260420T091823
CREATED:20241115T230827Z
LAST-MODIFIED:20241115T230827Z
UID:1956-2065910400-2065996799@duranduranies.com
SUMMARY:John Taylor Birthday 2035
DESCRIPTION:Happy Birthday John! \nJohn Taylor\, born Nigel John Taylor on June 20\, 1960\, in England. Learn more about John here \n\n\n\nBorn:\nMonday\, June 20\, 1960 (time unknown)\n\n\nIn:\nBirmingham (United Kingdom)\n\n\nSun:\n29°06′ Gemini\n\n\n\n\nMoon:\n18°34′ Taurus\n\n\n\n\nDominants:\nTaurus\, Gemini\, Cancer\nJupiter\, Saturn\, Mercury\nEarth\, Air / Mutable\n\n\nChinese Astrology:\nMetal Rat\n\n\nNumerology:\nBirth Path 6\n\n\nHeight:\nJohn Taylor (guitarist) is 6′ 2″ (1m88) tall
URL:https://duranduranies.com/event/john-taylor-birthday-2035/
CATEGORIES:Event
ATTACH;FMTTYPE=image/jpeg:https://duranduranies.com/wp-content/uploads/2024/05/johntaylor_solo_duranduran_duranies.jpeg
END:VEVENT
BEGIN:VEVENT
DTSTART;VALUE=DATE:20350810
DTEND;VALUE=DATE:20350811
DTSTAMP:20260420T091823
CREATED:20241115T212311Z
LAST-MODIFIED:20241115T212311Z
UID:1904-2070316800-2070403199@duranduranies.com
SUMMARY:Duran Duran Appreciation Day 2035
DESCRIPTION:Duran Duran Appreciation Day\, celebrated annually on August 10th\, is a day dedicated to honoring and celebrating the iconic British band\, Duran Duran. Fans around the world come together to celebrate the band’s music\, legacy\, and impact on popular culture. The day is marked by various events and activities organized by fans\, including listening parties\, tribute concerts\, online fan gatherings\, and social media tributes. It’s a time for fans to share their love for Duran Duran’s music\, reminisce about their favorite songs and memories\, and connect with other fans who share their passion for the band. Duran Duran Appreciation Day is a testament to the enduring influence and appeal of one of the most iconic bands in music history.
URL:https://duranduranies.com/event/duran-duran-appreciation-day-2035/
CATEGORIES:Event
ATTACH;FMTTYPE=image/jpeg:https://duranduranies.com/wp-content/uploads/2022/09/Albumism_DuranDuran_AlbumMosaic1_MainImage.jpg
END:VEVENT
BEGIN:VEVENT
DTSTART;VALUE=DATE:20351027
DTEND;VALUE=DATE:20351028
DTSTAMP:20260420T091823
CREATED:20241118T152915Z
LAST-MODIFIED:20241118T153510Z
UID:1970-2077056000-2077142399@duranduranies.com
SUMMARY:Simon Le Bon Birthday 2035
DESCRIPTION:HAPPY BIRTHDAY SIMON JOHN CHARLES LE BON (CHARLIE)\nSimon Le Bon was born on October 27\, 1958. Bushey\, United Kingdom\nLearn more about Simon here\n\n\n\n\n\n\n\nSpouse: Yasmin Le Bon (m. 1985)\nMusic groups: Duran Duran (Since 1980)\, Arcadia\, Band Aid (1984 – 1984)\nChildren: Amber Le Bon\, Saffron Le Bon\, Tallulah Le Bon\nGrandchildren: Taro\, Skye\, plus on on the way via Amber\nParents: John Le Bon\, Ann-Marie Le Bon\nHeight: 6′ 2″\nSimon Le Bon is estimated to have a net worth of around $60 million (£45.6m).\nThroughout his career\, Le Bon has been awarded three Ivor Novello Awards by the British Academy of Songwriters\, Composers\, and Authors. He was also honored with an MBE award.\n\n\n\n\n\nSIMON’S BIRTHCHART / ASTROLOGY\n\n\n\n\nBorn:\nMonday\, October 27\, 1958\, 9:00 PM\n\n\nIn:\nBushey\, Hertfordshire (United Kingdom)\n\n\nSun:\n3°56′ Scorpio\nAS:\n19°30′ Cancer\n\n\nMoon:\n6°20′ Taurus\nMC:\n19°29′ Pisces\n\n\nDominants:\nScorpio\, Taurus\, Cancer\nMoon\, Neptune\, Pluto\nHouses 5\, 11\, 3 / Water\, Earth / Fixed\n\n\nChinese Astrology:\nEarth Dog\n\n\nNumerology:\nBirth Path 6
URL:https://duranduranies.com/event/simon-le-bon-birthday-2035/
CATEGORIES:Event
ATTACH;FMTTYPE=image/jpeg:https://duranduranies.com/wp-content/uploads/2024/05/Simon_Lebon_DuranDuran_Duranies_skinny90s.jpeg
END:VEVENT
END:VCALENDAR