BEGIN:VCALENDAR
VERSION:2.0
PRODID:-//DuranDuranies - ECPv6.15.20//NONSGML v1.0//EN
CALSCALE:GREGORIAN
METHOD:PUBLISH
X-WR-CALNAME:DuranDuranies
X-ORIGINAL-URL:https://duranduranies.com
X-WR-CALDESC:Events for DuranDuranies
REFRESH-INTERVAL;VALUE=DURATION:PT1H
X-Robots-Tag:noindex
X-PUBLISHED-TTL:PT1H
BEGIN:VTIMEZONE
TZID:UTC
BEGIN:STANDARD
TZOFFSETFROM:+0000
TZOFFSETTO:+0000
TZNAME:UTC
DTSTART:20250101T000000
END:STANDARD
END:VTIMEZONE
BEGIN:VEVENT
DTSTART;TZID=UTC:20260913T000000
DTEND;TZID=UTC:20260913T000000
DTSTAMP:20260422T145702
CREATED:20240913T152709Z
LAST-MODIFIED:20240913T152709Z
UID:1625-1789257600-1789257600@duranduranies.com
SUMMARY:New Moon (Dark Phase) Released
DESCRIPTION:The new song\, “New Moon (Dark Phase)”\, is a reimagined remix of “New Moon on Monday” from Seven and The Ragged Tiger. \n\n\n\nThe song was released on September 13\, 2024. (Friday the 13th!) New Moon (Dark Phase) breathes spectral life into the fan favorite while retaining the beloved essence of the original. What makes it even more special is the reunion of the core lineup—Simon Le Bon\, John Taylor\, Nick Rhodes\, and Roger Taylor—with original guitarist (and our guitar HERO) Andy Taylor back in the fold.
URL:https://duranduranies.com/event/new-moon-dark-phase-released-2-2/
CATEGORIES:Event
ATTACH;FMTTYPE=image/jpeg:https://duranduranies.com/wp-content/uploads/2024/09/Duran-Duran-New-Moon-Dark-Phase-New-Song-Duranies.jpg
END:VEVENT
END:VCALENDAR