BEGIN:VCALENDAR
VERSION:2.0
PRODID:-//DuranDuranies - ECPv6.15.20//NONSGML v1.0//EN
CALSCALE:GREGORIAN
METHOD:PUBLISH
X-WR-CALNAME:DuranDuranies
X-ORIGINAL-URL:https://duranduranies.com
X-WR-CALDESC:Events for DuranDuranies
REFRESH-INTERVAL;VALUE=DURATION:PT1H
X-Robots-Tag:noindex
X-PUBLISHED-TTL:PT1H
BEGIN:VTIMEZONE
TZID:UTC
BEGIN:STANDARD
TZOFFSETFROM:+0000
TZOFFSETTO:+0000
TZNAME:UTC
DTSTART:20250101T000000
END:STANDARD
END:VTIMEZONE
BEGIN:VEVENT
DTSTART;TZID=UTC:20260702T190000
DTEND;TZID=UTC:20260702T220000
DTSTAMP:20260421T131339
CREATED:20260322T020446Z
LAST-MODIFIED:20260322T020446Z
UID:3479-1783018800-1783029600@duranduranies.com
SUMMARY:Duran Duran at Arena Boris Trajkovski — Skopje\, North Macedonia
DESCRIPTION:Duran Duran will bring their 2026 European tour to Boris Trajkovski Sports Center on July 2\, 2026\, marking a major concert event for fans in the region. The venue—often referred to as A1 Arena Boris Trajkovski—is the largest indoor arena in Skopje\, regularly hosting international concerts\, sports championships\, and major cultural events.
URL:https://duranduranies.com/event/duran-duran-at-arena-boris-trajkovski-skopje-north-macedonia/
LOCATION:Boris Trajkovski Sports Center\, North Macedonia
CATEGORIES:Tours & Live Shows
ATTACH;FMTTYPE=image/jpeg:https://duranduranies.com/wp-content/uploads/2026/03/john-taylor-dom-brown-and-nick-rhodes-duranies.avif
END:VEVENT
END:VCALENDAR