BEGIN:VCALENDAR
VERSION:2.0
PRODID:-//DuranDuranies - ECPv6.15.20//NONSGML v1.0//EN
CALSCALE:GREGORIAN
METHOD:PUBLISH
X-WR-CALNAME:DuranDuranies
X-ORIGINAL-URL:https://duranduranies.com
X-WR-CALDESC:Events for DuranDuranies
REFRESH-INTERVAL;VALUE=DURATION:PT1H
X-Robots-Tag:noindex
X-PUBLISHED-TTL:PT1H
BEGIN:VTIMEZONE
TZID:UTC
BEGIN:STANDARD
TZOFFSETFROM:+0000
TZOFFSETTO:+0000
TZNAME:UTC
DTSTART:20230101T000000
END:STANDARD
END:VTIMEZONE
BEGIN:VEVENT
DTSTART;TZID=UTC:20241031T190000
DTEND;TZID=UTC:20241031T220000
DTSTAMP:20260424T162545
CREATED:20240912T141636Z
LAST-MODIFIED:20240912T183915Z
UID:1607-1730401200-1730412000@duranduranies.com
SUMMARY:Danse Macabre at Madison Square Garden
DESCRIPTION:Duran Duran is bringing DANSE MACABRE to Madison Square Garden on October 31\, 2024\, for a Halloween night you won’t forget! This special show will be packed with haunting hits and eerie tracks from their latest album. After last year’s unforgettable performance\, this iconic band is upping the ante at the iconic MSG—expect spooky vibes\, killer tunes\, and a concert experience that’s a total treat.
URL:https://duranduranies.com/event/danse-macabre-at-madison-square-garden/
LOCATION:Madison Square Garden\, 4 Pennsylvania Plz\, New York\, NY 10001\, United States
CATEGORIES:Tours & Live Shows
ATTACH;FMTTYPE=image/jpeg:https://duranduranies.com/wp-content/uploads/2024/09/Duran-Duran-Halloween-Show.jpeg
END:VEVENT
END:VCALENDAR