BEGIN:VCALENDAR
VERSION:2.0
PRODID:-//DuranDuranies - ECPv6.15.20//NONSGML v1.0//EN
CALSCALE:GREGORIAN
METHOD:PUBLISH
X-WR-CALNAME:DuranDuranies
X-ORIGINAL-URL:https://duranduranies.com
X-WR-CALDESC:Events for DuranDuranies
REFRESH-INTERVAL;VALUE=DURATION:PT1H
X-Robots-Tag:noindex
X-PUBLISHED-TTL:PT1H
BEGIN:VTIMEZONE
TZID:UTC
BEGIN:STANDARD
TZOFFSETFROM:+0000
TZOFFSETTO:+0000
TZNAME:UTC
DTSTART:20230101T000000
END:STANDARD
END:VTIMEZONE
BEGIN:VEVENT
DTSTART;TZID=UTC:20240514T183000
DTEND;TZID=UTC:20240514T210000
DTSTAMP:20260425T012531
CREATED:20240419T231859Z
LAST-MODIFIED:20240514T220503Z
UID:814-1715711400-1715720400@duranduranies.com
SUMMARY:Sandia Casino Amphitheater
DESCRIPTION:Sandia Casino Amphitheater \n30 Rainbow Rd\,\nAlbuquerque\, NM 87113
URL:https://duranduranies.com/event/sandia-casino-amphitheater/
LOCATION:Sandia Casino\, 30 Rainbow Rd\, Albuquerque\, NM\, 87113\, United States
CATEGORIES:Tours & Live Shows
END:VEVENT
END:VCALENDAR